BEGIN:VCALENDAR
VERSION:2.0
PRODID:-//Events | FID-Recht//NONSGML Events//EN
CALSCALE:GREGORIAN
X-ORIGINAL-URL:https://events.intrecht.de/termine/
X-WR-CALDESC:Events | FID-Recht - Events
BEGIN:VEVENT
UID:20200603T1418Z-1591193923.3362-EO-587-1@172.16.200.141
STATUS:CONFIRMED
DTSTAMP:20260425T225159Z
CREATED:20231122T095449Z
LAST-MODIFIED:20231122T095929Z
DTSTART;VALUE=DATE:20231123
DTEND;VALUE=DATE:20231124
SUMMARY: Der Text als Norm – Dogmatik in Rechtswissenschaft und Theologie (
 Vortrag / Vortragsreihe „verfassungstheoretische Gespräche Bochum-Bonn“)
DESCRIPTION: 23.11.2023 / Bonn https://www.jura.uni-bonn.de/fileadmin/Fachb
 ereich_Rechtswissenschaft/Einrichtungen/Lehrstuehle/Sauer/20231114_Flyer_Ve
 rfassungstheoretische_Gespra__che.pdf
X-ALT-DESC;FMTTYPE=text/html: <p>23.11.2023 / Bonn</p><p><a href="https://w
 ww.jura.uni-bonn.de/fileadmin/Fachbereich_Rechtswissenschaft/Einrichtungen/
 Lehrstuehle/Sauer/20231114_Flyer_Verfassungstheoretische_Gespra__che.pdf">h
 ttps://www.jura.uni-bonn.de/fileadmin/Fachbereich_Rechtswissenschaft/Einric
 htungen/Lehrstuehle/Sauer/20231114_Flyer_Verfassungstheoretische_Gespra__ch
 e.pdf</a></p><p>[av_button label='iCal-Export' link='./feed/eo-events' link
 _target='' size='small' position='center' label_display='' title_attr='' ic
 on_select='yes' icon='ue85b' font='entypo-fontello' color='custom' custom_b
 g='#b5123e' custom_font='#ffffff' av_uid='' id='' custom_class='' admin_pre
 view_bg='']</p>
CATEGORIES:Recht interdisziplinär
LOCATION:Inland
GEO:0.000000;0.000000
ORGANIZER;CN="ViFa-Recht":MAILTO:vifa-recht@sbb.spk-berlin.de
URL;VALUE=URI:https://events.intrecht.de/termine/termin/der-text-als-norm-d
 ogmatik-in-rechtswissenschaft-und-theologie-vortrag-vortragsreihe-verfassun
 gstheoretische-gespraeche-bochum-bonn/
END:VEVENT
BEGIN:VTIMEZONE
TZID:Europe/Berlin
BEGIN:STANDARD
TZOFFSETFROM:+0200
TZOFFSETTO:+0100
DTSTART:20231029T010000
TZNAME:CET
END:STANDARD
END:VTIMEZONE
END:VCALENDAR
