BEGIN:VCALENDAR
VERSION:2.0
PRODID:-//Events | FID-Recht//NONSGML Events//EN
CALSCALE:GREGORIAN
X-ORIGINAL-URL:https://events.intrecht.de/termine/
X-WR-CALDESC:Events | FID-Recht - Events
BEGIN:VEVENT
UID:20200603T1418Z-1591193923.3362-EO-587-1@172.16.200.141
STATUS:CONFIRMED
DTSTAMP:20260422T225239Z
CREATED:20240905T153301Z
LAST-MODIFIED:20240905T153301Z
DTSTART;VALUE=DATE:20240912
DTEND;VALUE=DATE:20240913
SUMMARY: Der steinige Weg der Promotion und seine Abschnitte – Die Suche na
 ch Stipendien (Online Event / Deutscher Juristinnenbund)
DESCRIPTION: 12.9.2024 / Online https://www.djb.de/termine/details/v240912?
 actbackPid=289&cHash=05d07737f6d6e6891e4d607a74dd8070
X-ALT-DESC;FMTTYPE=text/html: <p>12.9.2024 / Online</p><p><a href="https://
 www.djb.de/termine/details/v240912?actbackPid=289&cHash=05d07737f6d6e6891e4
 d607a74dd8070">https://www.djb.de/termine/details/v240912?actbackPid=289&cH
 ash=05d07737f6d6e6891e4d607a74dd8070</a></p><p>[av_button label='iCal-Expor
 t' link='./feed/eo-events' link_target='' size='small' position='center' la
 bel_display='' title_attr='' icon_select='yes' icon='ue85b' font='entypo-fo
 ntello' color='custom' custom_bg='#b5123e' custom_font='#ffffff' av_uid='' 
 id='' custom_class='' admin_preview_bg='']</p>
CATEGORIES:Recht interdisziplinär
LOCATION:Online
GEO:0.000000;0.000000
ORGANIZER;CN="ViFa-Recht":MAILTO:vifa-recht@sbb.spk-berlin.de
URL;VALUE=URI:https://events.intrecht.de/termine/termin/der-steinige-weg-de
 r-promotion-und-seine-abschnitte-die-suche-nach-stipendien-online-event-deu
 tscher-juristinnenbund/
END:VEVENT
BEGIN:VTIMEZONE
TZID:Europe/Berlin
BEGIN:DAYLIGHT
TZOFFSETFROM:+0100
TZOFFSETTO:+0200
DTSTART:20240331T010000
TZNAME:CEST
END:DAYLIGHT
END:VTIMEZONE
END:VCALENDAR
