BEGIN:VCALENDAR
VERSION:2.0
PRODID:-//Events | FID-Recht//NONSGML Events//EN
CALSCALE:GREGORIAN
X-ORIGINAL-URL:https://events.intrecht.de/termine/
X-WR-CALDESC:Events | FID-Recht - Events
BEGIN:VEVENT
UID:20200603T1418Z-1591193923.3362-EO-587-1@172.16.200.141
STATUS:CONFIRMED
DTSTAMP:20260422T174043Z
CREATED:20241104T134214Z
LAST-MODIFIED:20241104T134214Z
DTSTART;VALUE=DATE:20241119
DTEND;VALUE=DATE:20241120
SUMMARY: Der Schutz der natürlichen Lebensgrundlagen als Herausforderung an
  das Völkerrecht\, das Verfassungsrecht und das Verwaltungsrecht (Hybride D
 iskussionsveranstaltung zum Schutz natürlicher Lebensgrundlagen)
DESCRIPTION: 19.11.2024 / Online und Bochum https://www.ifhv.de/assets/e0c0
 dc5b-fbd5-4604-ad37-9c36b94b4080.pdf
X-ALT-DESC;FMTTYPE=text/html: <p>19.11.2024 / Online und Bochum</p><p><a hr
 ef="https://www.ifhv.de/assets/e0c0dc5b-fbd5-4604-ad37-9c36b94b4080.pdf">ht
 tps://www.ifhv.de/assets/e0c0dc5b-fbd5-4604-ad37-9c36b94b4080.pdf</a></p><p
 >[av_button label='iCal-Export' link='./feed/eo-events' link_target='' size
 ='small' position='center' label_display='' title_attr='' icon_select='yes'
  icon='ue85b' font='entypo-fontello' color='custom' custom_bg='#b5123e' cus
 tom_font='#ffffff' av_uid='' id='' custom_class='' admin_preview_bg='']</p>
CATEGORIES:Europäisches / Internationales Recht
LOCATION:Hybrid
GEO:0.000000;0.000000
ORGANIZER;CN="ViFa-Recht":MAILTO:vifa-recht@sbb.spk-berlin.de
URL;VALUE=URI:https://events.intrecht.de/termine/termin/der-schutz-der-natu
 erlichen-lebensgrundlagen-als-herausforderung-an-das-voelkerrecht-das-verfa
 ssungsrecht-und-das-verwaltungsrecht-hybride-diskussionsveranstaltung-zum-s
 chutz-natuerlicher-lebensgrun/
END:VEVENT
BEGIN:VTIMEZONE
TZID:Europe/Berlin
BEGIN:STANDARD
TZOFFSETFROM:+0200
TZOFFSETTO:+0100
DTSTART:20241027T010000
TZNAME:CET
END:STANDARD
END:VTIMEZONE
END:VCALENDAR
