BEGIN:VCALENDAR
VERSION:2.0
PRODID:-//Events | FID-Recht//NONSGML Events//EN
CALSCALE:GREGORIAN
X-ORIGINAL-URL:https://events.intrecht.de/termine/
X-WR-CALDESC:Events | FID-Recht - Events
BEGIN:VEVENT
UID:20200603T1418Z-1591193923.3362-EO-587-1@172.16.200.141
STATUS:CONFIRMED
DTSTAMP:20260425T160220Z
CREATED:20240905T154311Z
LAST-MODIFIED:20240905T154311Z
DTSTART;VALUE=DATE:20240927
DTEND;VALUE=DATE:20240929
SUMMARY: Der Rechtsstaat und das Straf- und Strafverfahrensrecht (Tagung)
DESCRIPTION: 27.-28.9.2024 / Halle (Saale) (Anmeldefrist: 23.9.2024) https:
 //www.jura.uni-halle.de/rosenau/aktuelles/2894228_3557250/
X-ALT-DESC;FMTTYPE=text/html: <p>27.-28.9.2024 / Halle (Saale) <strong>(Anm
 eldefrist: 23.9.2024)</strong></p><p><a href="https://www.jura.uni-halle.de
 /rosenau/aktuelles/2894228_3557250/">https://www.jura.uni-halle.de/rosenau/
 aktuelles/2894228_3557250/</a></p><p>[av_button label='iCal-Export' link='.
 /feed/eo-events' link_target='' size='small' position='center' label_displa
 y='' title_attr='' icon_select='yes' icon='ue85b' font='entypo-fontello' co
 lor='custom' custom_bg='#b5123e' custom_font='#ffffff' av_uid='' id='' cust
 om_class='' admin_preview_bg='']</p>
CATEGORIES:Strafrecht
LOCATION:Inland
GEO:0.000000;0.000000
ORGANIZER;CN="ViFa-Recht":MAILTO:vifa-recht@sbb.spk-berlin.de
URL;VALUE=URI:https://events.intrecht.de/termine/termin/der-rechtsstaat-und
 -das-straf-und-strafverfahrensrecht-tagung/
END:VEVENT
BEGIN:VTIMEZONE
TZID:Europe/Berlin
BEGIN:DAYLIGHT
TZOFFSETFROM:+0100
TZOFFSETTO:+0200
DTSTART:20240331T010000
TZNAME:CEST
END:DAYLIGHT
END:VTIMEZONE
END:VCALENDAR
