BEGIN:VCALENDAR
VERSION:2.0
PRODID:-//Events | FID-Recht//NONSGML Events//EN
CALSCALE:GREGORIAN
X-ORIGINAL-URL:https://events.intrecht.de/termine/
X-WR-CALDESC:Events | FID-Recht - Events
BEGIN:VEVENT
UID:20220118T1712Z-1642525940.7928-EO-4241-1@172.16.200.141
STATUS:CONFIRMED
DTSTAMP:20260425T212326Z
CREATED:20220114T170335Z
LAST-MODIFIED:20220114T170335Z
DTSTART;VALUE=DATE:20220202
DTEND;VALUE=DATE:20220203
SUMMARY: Der Oberste Gerichtshof für die Britische Zone und die Aufarbeitun
 g von NS-Unrecht (mit Juliane Ohlenroth) (Online-Vortrag)
DESCRIPTION: 2.2.2022\, Online https://www.fritz-bauer-institut.de/veransta
 ltungen/veranstaltung/der-oberste-gerichtshof-fuer-die-britische-zone-und-d
 ie-aufarbeitung-von-ns-unrecht  
X-ALT-DESC;FMTTYPE=text/html: <p>2.2.2022\, Online</p><p><a href="https://w
 ww.fritz-bauer-institut.de/veranstaltungen/veranstaltung/der-oberste-gerich
 tshof-fuer-die-britische-zone-und-die-aufarbeitung-von-ns-unrecht">https://
 www.fritz-bauer-institut.de/veranstaltungen/veranstaltung/der-oberste-geric
 htshof-fuer-die-britische-zone-und-die-aufarbeitung-von-ns-unrecht</a></p><
 p> </p><p>[av_button label='iCal-Export' link='./feed/eo-events' link_targe
 t='' size='small' position='center' label_display='' title_attr='' icon_sel
 ect='yes' icon='ue85b' font='entypo-fontello' color='custom' custom_bg='#b5
 123e' custom_font='#ffffff' av_uid='' id='' custom_class='' admin_preview_b
 g='']</p>
CATEGORIES:Recht interdisziplinär
LOCATION:Online
GEO:0.000000;0.000000
ORGANIZER;CN="ViFa-Recht":MAILTO:vifa-recht@sbb.spk-berlin.de
URL;VALUE=URI:https://events.intrecht.de/termine/termin/der-oberste-gericht
 shof-fuer-die-britische-zone-und-die-aufarbeitung-von-ns-unrecht-mit-julian
 e-ohlenroth-online-vortrag/
END:VEVENT
BEGIN:VTIMEZONE
TZID:Europe/Berlin
BEGIN:STANDARD
TZOFFSETFROM:+0200
TZOFFSETTO:+0100
DTSTART:20211031T010000
TZNAME:CET
END:STANDARD
END:VTIMEZONE
END:VCALENDAR
