BEGIN:VCALENDAR
VERSION:2.0
PRODID:-//Events | FID-Recht//NONSGML Events//EN
CALSCALE:GREGORIAN
X-ORIGINAL-URL:https://events.intrecht.de/termine/
X-WR-CALDESC:Events | FID-Recht - Events
BEGIN:VEVENT
UID:20201116T1054Z-1605524040.4577-EO-2195-1@172.16.200.141
STATUS:CONFIRMED
DTSTAMP:20260421T102552Z
CREATED:20201110T185846Z
LAST-MODIFIED:20201110T185846Z
DTSTART;VALUE=DATE:20201111
DTEND;VALUE=DATE:20201112
SUMMARY:  Der Konflikt um Berg-Karabach (mit Armine Usojan) (Online-Vortrag
 )
DESCRIPTION: 11.11.2020\, Online https://www.wsi.uni-kiel.de/de/veranstaltu
 ngen/voelkerrechtliche-tagesthemen  
X-ALT-DESC;FMTTYPE=text/html: <p>11.11.2020\, Online</p><p><a href="https:/
 /www.wsi.uni-kiel.de/de/veranstaltungen/voelkerrechtliche-tagesthemen">http
 s://www.wsi.uni-kiel.de/de/veranstaltungen/voelkerrechtliche-tagesthemen</a
 ></p><p> </p><p>[av_button label='iCal-Export' link='./feed/eo-events' link
 _target='' size='small' position='center' label_display='' title_attr='' ic
 on_select='yes' icon='ue85b' font='entypo-fontello' color='custom' custom_b
 g='#b5123e' custom_font='#ffffff' av_uid='' id='' custom_class='' admin_pre
 view_bg='']</p>
CATEGORIES:Europäisches / Internationales Recht
LOCATION:Online
GEO:0.000000;0.000000
ORGANIZER;CN="ViFa-Recht":MAILTO:vifa-recht@sbb.spk-berlin.de
URL;VALUE=URI:https://events.intrecht.de/termine/termin/der-konflikt-um-ber
 g-karabach-mit-armine-usojan-online-vortrag/
END:VEVENT
BEGIN:VTIMEZONE
TZID:Europe/Berlin
BEGIN:STANDARD
TZOFFSETFROM:+0200
TZOFFSETTO:+0100
DTSTART:20201025T010000
TZNAME:CET
END:STANDARD
END:VTIMEZONE
END:VCALENDAR
