BEGIN:VCALENDAR
VERSION:2.0
PRODID:-//Events | FID-Recht//NONSGML Events//EN
CALSCALE:GREGORIAN
X-ORIGINAL-URL:https://events.intrecht.de/termine/
X-WR-CALDESC:Events | FID-Recht - Events
BEGIN:VEVENT
UID:20200603T1418Z-1591193923.3362-EO-587-1@172.16.200.141
STATUS:CONFIRMED
DTSTAMP:20260425T122108Z
CREATED:20230412T142732Z
LAST-MODIFIED:20230412T142732Z
DTSTART;VALUE=DATE:20230531
DTEND;VALUE=DATE:20230601
SUMMARY: Der Halle-Prozess. Kontinuitäten antisemitischer und rassistischer
  Gewalt vor deutschen Gerichten (Hybridveranstaltung)
DESCRIPTION: 31.5.2023 / Online und Frankfurt am Main https://www.fritz-bau
 er-institut.de/veranstaltungen/veranstaltung/der-halle-prozess
X-ALT-DESC;FMTTYPE=text/html: <p>31.5.2023 / Online und Frankfurt am Main</
 p><p><a href="https://www.fritz-bauer-institut.de/veranstaltungen/veranstal
 tung/der-halle-prozess">https://www.fritz-bauer-institut.de/veranstaltungen
 /veranstaltung/der-halle-prozess</a></p><p>[av_button label='iCal-Export' l
 ink='./feed/eo-events' link_target='' size='small' position='center' label_
 display='' title_attr='' icon_select='yes' icon='ue85b' font='entypo-fontel
 lo' color='custom' custom_bg='#b5123e' custom_font='#ffffff' av_uid='' id='
 ' custom_class='' admin_preview_bg='']</p>
CATEGORIES:Strafrecht
LOCATION:Online
GEO:0.000000;0.000000
ORGANIZER;CN="ViFa-Recht":MAILTO:vifa-recht@sbb.spk-berlin.de
URL;VALUE=URI:https://events.intrecht.de/termine/termin/der-halle-prozess-k
 ontinuitaeten-antisemitischer-und-rassistischer-gewalt-vor-deutschen-gerich
 ten-hybridveranstaltung/
END:VEVENT
BEGIN:VTIMEZONE
TZID:Europe/Berlin
BEGIN:DAYLIGHT
TZOFFSETFROM:+0100
TZOFFSETTO:+0200
DTSTART:20230326T010000
TZNAME:CEST
END:DAYLIGHT
END:VTIMEZONE
END:VCALENDAR
