BEGIN:VCALENDAR
VERSION:2.0
PRODID:-//Events | FID-Recht//NONSGML Events//EN
CALSCALE:GREGORIAN
X-ORIGINAL-URL:https://events.intrecht.de/termine/
X-WR-CALDESC:Events | FID-Recht - Events
BEGIN:VEVENT
UID:20201023T0317Z-1603423042.1336-EO-1864-1@172.16.200.141
STATUS:CONFIRMED
DTSTAMP:20260422T231832Z
CREATED:20201012T183625Z
LAST-MODIFIED:20201012T183625Z
DTSTART;VALUE=DATE:20201016
DTEND;VALUE=DATE:20201016
SUMMARY: Der Grenzgänger. Heinrich Lammasch zum 100. Todestag (Online-Tagun
 g)
DESCRIPTION: 16.10.2020\, Innsbruck/Online https://www.uibk.ac.at/events/in
 fo/2020/tagung-heinrich-lammasch.html      
X-ALT-DESC;FMTTYPE=text/html: <p>16.10.2020\, Innsbruck/Online</p><p><a hre
 f="https://www.uibk.ac.at/events/info/2020/tagung-heinrich-lammasch.html">h
 ttps://www.uibk.ac.at/events/info/2020/tagung-heinrich-lammasch.html</a></p
 ><p> </p><p> </p><p> </p><p>[av_button label='iCal-Export' link='./feed/eo-
 events' link_target='' size='small' position='center' label_display='' titl
 e_attr='' icon_select='yes' icon='ue85b' font='entypo-fontello' color='cust
 om' custom_bg='#b5123e' custom_font='#ffffff' av_uid='' id='' custom_class=
 '' admin_preview_bg='']</p>
CATEGORIES:Europäisches / Internationales Recht,Recht interdisziplinär
LOCATION:Online
GEO:0.000000;0.000000
ORGANIZER;CN="ViFa-Recht":MAILTO:vifa-recht@sbb.spk-berlin.de
URL;VALUE=URI:https://events.intrecht.de/termine/termin/der-grenzgaenger-he
 inrich-lammasch-zum-100-todestag-online-tagung/
END:VEVENT
BEGIN:VTIMEZONE
TZID:Europe/Berlin
BEGIN:DAYLIGHT
TZOFFSETFROM:+0100
TZOFFSETTO:+0200
DTSTART:20200329T010000
TZNAME:CEST
END:DAYLIGHT
END:VTIMEZONE
END:VCALENDAR
