BEGIN:VCALENDAR
VERSION:2.0
PRODID:-//Events | FID-Recht//NONSGML Events//EN
CALSCALE:GREGORIAN
X-ORIGINAL-URL:https://events.intrecht.de/termine/
X-WR-CALDESC:Events | FID-Recht - Events
BEGIN:VEVENT
UID:20230122T2006Z-1674417979.4553-EO-8093-1@172.16.200.151
STATUS:CONFIRMED
DTSTAMP:20260425T122114Z
CREATED:20230119T114430Z
LAST-MODIFIED:20230119T114521Z
DTSTART;VALUE=DATE:20230124
DTEND;VALUE=DATE:20230125
SUMMARY: Der Einsatz automatisierter Gesichtserkennung im Polizei- und Stra
 fprozessrecht (Gemeinsames Kolloquium des Department Informatik und des GRK
  2475 (Cyberkriminalität und forensische Informatik) an der Friedrich-Alexa
 nder-Universität Erlangen-Nürnberg)
DESCRIPTION: 24.1.2023\, 18.15 Uhr / Online per Zoom (https://fau.zoom.us/j
 /93355339391) und im Juridicum\, Schillerstr. 1\, Raum R 2.281  
X-ALT-DESC;FMTTYPE=text/html: <p>24.1.2023\, 18.15 Uhr / Online per Zoom (<
 a href="https://fau.zoom.us/j/93355339391">https://fau.zoom.us/j/9335533939
 1</a>) und</p><p>im Juridicum\, Schillerstr. 1\, Raum R 2.281</p><p> </p><p
 >[av_button label='iCal-Export' link='./feed/eo-events' link_target='' size
 ='small' position='center' label_display='' title_attr='' icon_select='yes'
  icon='ue85b' font='entypo-fontello' color='custom' custom_bg='#b5123e' cus
 tom_font='#ffffff' av_uid='' id='' custom_class='' admin_preview_bg='']</p>
CATEGORIES:Recht interdisziplinär
LOCATION:Online
GEO:0.000000;0.000000
ORGANIZER;CN="ViFa-Recht":MAILTO:vifa-recht@sbb.spk-berlin.de
URL;VALUE=URI:https://events.intrecht.de/termine/termin/der-einsatz-automat
 isierter-gesichtserkennung-im-polizei-und-strafprozessrecht-cyberkriminalit
 aet-und-forensische-informatik-an-der-friedrich-alexander-universitaet-erla
 ngen-nuernberg/
END:VEVENT
BEGIN:VTIMEZONE
TZID:Europe/Berlin
BEGIN:STANDARD
TZOFFSETFROM:+0200
TZOFFSETTO:+0100
DTSTART:20221030T010000
TZNAME:CET
END:STANDARD
END:VTIMEZONE
END:VCALENDAR
