BEGIN:VCALENDAR
VERSION:2.0
PRODID:-//Events | FID-Recht//NONSGML Events//EN
CALSCALE:GREGORIAN
X-ORIGINAL-URL:https://events.intrecht.de/termine/
X-WR-CALDESC:Events | FID-Recht - Events
BEGIN:VEVENT
UID:20211206T1828Z-1638815291.7944-EO-5240-1@172.16.200.141
STATUS:CONFIRMED
DTSTAMP:20260423T024011Z
CREATED:20211126T230723Z
LAST-MODIFIED:20220308T192912Z
DTSTART;VALUE=DATE:20220404
DTEND;VALUE=DATE:20220407
SUMMARY: Der Eichmann-Prozess in transmedialer Perspektive – Figuren der Er
 innerung\, des Rechts und der Gerechtigkeit in Literatur und Film ((Online-
 )Workshop)
DESCRIPTION: 4.-6.4.2022\, Buenos Aires/Online (Frist für Einreichungen: 10
 .12.2021) Call for Papers – 60 Jahre Eichmann-Prozess (eichmanntribunal60.o
 rg) http://eichmanntribunal60.org/  
X-ALT-DESC;FMTTYPE=text/html: <p>4.-6.4.2022\, Buenos Aires/Online (Frist f
 ür Einreichungen: 10.12.2021)</p><p><a href="http://eichmanntribunal60.org/
 call-for-papers/">Call for Papers – 60 Jahre Eichmann-Prozess (eichmanntrib
 unal60.org)</a></p><p><a href="http://eichmanntribunal60.org/">http://eichm
 anntribunal60.org/</a></p><p> </p><p>[av_button label='iCal-Export' link='.
 /feed/eo-events' link_target='' size='small' position='center' label_displa
 y='' title_attr='' icon_select='yes' icon='ue85b' font='entypo-fontello' co
 lor='custom' custom_bg='#b5123e' custom_font='#ffffff' av_uid='' id='' cust
 om_class='' admin_preview_bg='']</p>
CATEGORIES:Recht interdisziplinär
LOCATION:Online
GEO:0.000000;0.000000
ORGANIZER;CN="ViFa-Recht":MAILTO:vifa-recht@sbb.spk-berlin.de
URL;VALUE=URI:https://events.intrecht.de/termine/termin/der-eichmann-prozes
 s-in-transmedialer-perspektive-figuren-der-erinnerung-des-rechts-und-der-ge
 rechtigkeit-in-literatur-und-film-online-workshop-cfp/
END:VEVENT
BEGIN:VTIMEZONE
TZID:Europe/Berlin
BEGIN:DAYLIGHT
TZOFFSETFROM:+0100
TZOFFSETTO:+0200
DTSTART:20220327T010000
TZNAME:CEST
END:DAYLIGHT
END:VTIMEZONE
END:VCALENDAR
