BEGIN:VCALENDAR
VERSION:2.0
PRODID:-//Events | FID-Recht//NONSGML Events//EN
CALSCALE:GREGORIAN
X-ORIGINAL-URL:https://events.intrecht.de/termine/
X-WR-CALDESC:Events | FID-Recht - Events
BEGIN:VEVENT
UID:20211206T0011Z-1638749483.7457-EO-5419-1@172.16.200.141
STATUS:CONFIRMED
DTSTAMP:20260423T060716Z
CREATED:20211130T203102Z
LAST-MODIFIED:20220308T192841Z
DTSTART;VALUE=DATE:20211210
DTEND;VALUE=DATE:20211211
SUMMARY: Der Eichmann-Prozess in transmedialer Perspektive – Figuren der Er
 innerung\, des Rechts und der Gerechtigkeit in Literatur und Film ((Online-
 )Workshop) (CfP)
DESCRIPTION: 4.-6.4.2022\, Buenos Aires/Online (Frist für Einreichungen: 10
 .12.2021) Call for Papers – 60 Jahre Eichmann-Prozess (eichmanntribunal60.o
 rg)  
X-ALT-DESC;FMTTYPE=text/html: <p>4.-6.4.2022\, Buenos Aires/Online (Frist f
 ür Einreichungen: 10.12.2021)</p><p><a href="http://eichmanntribunal60.org/
 call-for-papers/">Call for Papers – 60 Jahre Eichmann-Prozess (eichmanntrib
 unal60.org)</a></p><p> </p><p>[av_button label='iCal-Export' link='./feed/e
 o-events' link_target='' size='small' position='center' label_display='' ti
 tle_attr='' icon_select='yes' icon='ue85b' font='entypo-fontello' color='cu
 stom' custom_bg='#b5123e' custom_font='#ffffff' av_uid='' id='' custom_clas
 s='' admin_preview_bg='']</p>
CATEGORIES:Recht interdisziplinär
LOCATION:Online
GEO:0.000000;0.000000
ORGANIZER;CN="ViFa-Recht":MAILTO:vifa-recht@sbb.spk-berlin.de
URL;VALUE=URI:https://events.intrecht.de/termine/termin/der-eichmann-prozes
 s-in-transmedialer-perspektive-figuren-der-erinnerung-des-rechts-und-der-ge
 rechtigkeit-in-literatur-und-film-online-workshop-cfp-2/
END:VEVENT
BEGIN:VTIMEZONE
TZID:Europe/Berlin
BEGIN:STANDARD
TZOFFSETFROM:+0200
TZOFFSETTO:+0100
DTSTART:20211031T010000
TZNAME:CET
END:STANDARD
END:VTIMEZONE
END:VCALENDAR
