BEGIN:VCALENDAR
VERSION:2.0
PRODID:-//Events | FID-Recht//NONSGML Events//EN
CALSCALE:GREGORIAN
X-ORIGINAL-URL:https://events.intrecht.de/termine/
X-WR-CALDESC:Events | FID-Recht - Events
BEGIN:VEVENT
UID:20220330T1515Z-1648653318.4585-EO-5301-1@172.16.200.141
STATUS:CONFIRMED
DTSTAMP:20260421T202618Z
CREATED:20220329T105733Z
LAST-MODIFIED:20220331T081553Z
DTSTART;TZID=Europe/Berlin:20220331T160000
DTEND;TZID=Europe/Berlin:20220331T190000
SUMMARY: Der Angriffskrieg auf die Ukraine und die Reaktionen des Westens (
 mit Paulina Starski\, Markus Krajewski\, Peter Kindler und Jan von Hein) (O
 nline-Diskussion)
DESCRIPTION: 31.3.2022\, Online Deutsche Gesellschaft für Völkerrecht › Ver
 anstaltungen (dgfir.de)  
X-ALT-DESC;FMTTYPE=text/html: <p>31.3.2022\, Online</p><p><a href="https://
 dgfir.de/veranstaltungen/archiv/der-angriffskrieg-auf-die-ukraine-und-die-r
 eaktionen-des-westens/">Deutsche Gesellschaft für Völkerrecht › Veranstaltu
 ngen (dgfir.de)</a></p><p> </p><p>[av_button label='iCal-Export' link='./fe
 ed/eo-events' link_target='' size='small' position='center' label_display='
 ' title_attr='' icon_select='yes' icon='ue85b' font='entypo-fontello' color
 ='custom' custom_bg='#b5123e' custom_font='#ffffff' av_uid='' id='' custom_
 class='' admin_preview_bg='']</p>
CATEGORIES:Europäisches / Internationales Recht
LOCATION:Online
GEO:0.000000;0.000000
ORGANIZER;CN="ViFa-Recht":MAILTO:vifa-recht@sbb.spk-berlin.de
URL;VALUE=URI:https://events.intrecht.de/termine/termin/der-angriffskrieg-a
 uf-die-ukraine-und-die-reaktionen-des-westens-mit-paulina-starski-markus-kr
 ajewski-peter-kindler-und-jan-von-hein-online-diskussion/
END:VEVENT
BEGIN:VTIMEZONE
TZID:Europe/Berlin
BEGIN:DAYLIGHT
TZOFFSETFROM:+0100
TZOFFSETTO:+0200
DTSTART:20220327T010000
TZNAME:CEST
END:DAYLIGHT
END:VTIMEZONE
END:VCALENDAR
