BEGIN:VCALENDAR
VERSION:2.0
PRODID:-//Events | FID-Recht//NONSGML Events//EN
CALSCALE:GREGORIAN
X-ORIGINAL-URL:https://events.intrecht.de/termine/
X-WR-CALDESC:Events | FID-Recht - Events
BEGIN:VEVENT
UID:20210618T1652Z-1624035168.5274-EO-3976-1@172.16.200.141
STATUS:CONFIRMED
DTSTAMP:20260421T102829Z
CREATED:20210616T125835Z
LAST-MODIFIED:20210616T125835Z
DTSTART;TZID=Europe/Berlin:20210630T181500
DTEND;TZID=Europe/Berlin:20210630T194500
SUMMARY: Der aktuelle Kommissionsvorschlag für ein Gesetz über Künstliche I
 ntelligenz – Überblick\, Einordnung\, Grundfragen (Online-Vortrag)
DESCRIPTION: 30.6.2021\, Online Der aktuelle Kommissionsvorschlag für ein G
 esetz über Künstliche Intelligenz – Überblick • Universität Passau (uni-pas
 sau.de)  
X-ALT-DESC;FMTTYPE=text/html: <p>30.6.2021\, Online</p><p><a href="https://
 www.uni-passau.de/universitaet/universitaet-im-ueberblick/universitaetsmedi
 en/veranstaltungskalender/event/2021/06/30/der-aktuelle-kommissionsvorschla
 g-fuer-ein-gesetz-ueber-kuenstliche-intelligenz-ueberblick/?no_cache=1&tx_c
 al_controller%5Bview%5D=event&tx_cal_controller%5Btype%5D=tx_cal_phpicalend
 ar&tx_cal_controller%5Blastview%5D=view-list%7Cpage_id-7899%7Coffset-5&cHas
 h=e59e9f80b222e2e5f22714e15b346d29">Der aktuelle Kommissionsvorschlag für e
 in Gesetz über Künstliche Intelligenz - Überblick • Universität Passau (uni
 -passau.de)</a></p><p> </p><p>[av_button label='iCal-Export' link='./feed/e
 o-events' link_target='' size='small' position='center' label_display='' ti
 tle_attr='' icon_select='yes' icon='ue85b' font='entypo-fontello' color='cu
 stom' custom_bg='#b5123e' custom_font='#ffffff' av_uid='' id='' custom_clas
 s='' admin_preview_bg='']</p>
CATEGORIES:Recht interdisziplinär
LOCATION:Online
GEO:0.000000;0.000000
ORGANIZER;CN="ViFa-Recht":MAILTO:vifa-recht@sbb.spk-berlin.de
URL;VALUE=URI:https://events.intrecht.de/termine/termin/der-aktuelle-kommis
 sionsvorschlag-fuer-ein-gesetz-ueber-kuenstliche-intelligenz-ueberblick-ein
 ordnung-grundfragen-online-vortrag/
END:VEVENT
BEGIN:VTIMEZONE
TZID:Europe/Berlin
BEGIN:DAYLIGHT
TZOFFSETFROM:+0100
TZOFFSETTO:+0200
DTSTART:20210328T010000
TZNAME:CEST
END:DAYLIGHT
END:VTIMEZONE
END:VCALENDAR
