BEGIN:VCALENDAR
VERSION:2.0
PRODID:-//Events | FID-Recht//NONSGML Events//EN
CALSCALE:GREGORIAN
X-ORIGINAL-URL:https://events.intrecht.de/termine/
X-WR-CALDESC:Events | FID-Recht - Events
BEGIN:VEVENT
UID:20210430T1007Z-1619777245.0354-EO-3067-1@172.16.200.141
STATUS:CONFIRMED
DTSTAMP:20260422T125325Z
CREATED:20210427T101521Z
LAST-MODIFIED:20210427T101521Z
DTSTART;VALUE=DATE:20210429
DTEND;VALUE=DATE:20210429
SUMMARY: Demokratische Erkenntnisse\, Erkenntnisse für Demokratie? – Zum ju
 ristischen Umgang mit Wissen und Nicht-Wissen (mit Steffen Augsberg) (Onlin
 e-Vortrag)
DESCRIPTION: 29.4.2021\, Online https://www.wiko-greifswald.de/programm/all
 gemeines/veranstaltungskalender/veranstaltung/n/demokratische-erkenntnisse-
 erkenntnisse-fuer-demokratie-zum-juristischen-umgang-mit-wissen-und-nicht-w
 issen/?utm_source=sendinblue&utm_campaign=Veranstaltungen_in_der_Woche_vom_
 26_April_bis_2_Mai_2021_im_Kolleg&utm_medium=email  
X-ALT-DESC;FMTTYPE=text/html: <p>29.4.2021\, Online</p><p><a href="https://
 www.wiko-greifswald.de/programm/allgemeines/veranstaltungskalender/veransta
 ltung/n/demokratische-erkenntnisse-erkenntnisse-fuer-demokratie-zum-juristi
 schen-umgang-mit-wissen-und-nicht-wissen/?utm_source=sendinblue&utm_campaig
 n=Veranstaltungen_in_der_Woche_vom_26_April_bis_2_Mai_2021_im_Kolleg&utm_me
 dium=email">https://www.wiko-greifswald.de/programm/allgemeines/veranstaltu
 ngskalender/veranstaltung/n/demokratische-erkenntnisse-erkenntnisse-fuer-de
 mokratie-zum-juristischen-umgang-mit-wissen-und-nicht-wissen/?utm_source=se
 ndinblue&utm_campaign=Veranstaltungen_in_der_Woche_vom_26_April_bis_2_Mai_2
 021_im_Kolleg&utm_medium=email</a></p><p> </p><p>[av_button label='iCal-Exp
 ort' link='./feed/eo-events' link_target='' size='small' position='center' 
 label_display='' title_attr='' icon_select='yes' icon='ue85b' font='entypo-
 fontello' color='custom' custom_bg='#b5123e' custom_font='#ffffff' av_uid='
 ' id='' custom_class='' admin_preview_bg='']</p>
CATEGORIES:Recht interdisziplinär
LOCATION:Online
GEO:0.000000;0.000000
ORGANIZER;CN="ViFa-Recht":MAILTO:vifa-recht@sbb.spk-berlin.de
URL;VALUE=URI:https://events.intrecht.de/termine/termin/demokratische-erken
 ntnisse-erkenntnisse-fuer-demokratie-zum-juristischen-umgang-mit-wissen-und
 -nicht-wissen-mit-steffen-augsberg-online-vortrag/
END:VEVENT
BEGIN:VTIMEZONE
TZID:Europe/Berlin
BEGIN:DAYLIGHT
TZOFFSETFROM:+0100
TZOFFSETTO:+0200
DTSTART:20210328T010000
TZNAME:CEST
END:DAYLIGHT
END:VTIMEZONE
END:VCALENDAR
