BEGIN:VCALENDAR
VERSION:2.0
PRODID:-//Events | FID-Recht//NONSGML Events//EN
CALSCALE:GREGORIAN
X-ORIGINAL-URL:https://events.intrecht.de/termine/
X-WR-CALDESC:Events | FID-Recht - Events
BEGIN:VEVENT
UID:20200603T1418Z-1591193923.3362-EO-587-1@172.16.200.141
STATUS:CONFIRMED
DTSTAMP:20260422T192505Z
CREATED:20241115T151058Z
LAST-MODIFIED:20241115T151058Z
DTSTART;VALUE=DATE:20250113
DTEND;VALUE=DATE:20250114
SUMMARY: Demokratieresilienz in der EU (Hybrid Event)
DESCRIPTION: 13.1.2025 / Online und Berlin https://www.rewi.hu-berlin.de/de
 /lf/oe/lsi/demokratieresilienz-in-der-eu-gastvortrag-von-staatsministerin-f
 uer-eurpa-dr-anna-luehrmann
X-ALT-DESC;FMTTYPE=text/html: <p>13.1.2025 / Online und Berlin</p><p><a hre
 f="https://www.rewi.hu-berlin.de/de/lf/oe/lsi/demokratieresilienz-in-der-eu
 -gastvortrag-von-staatsministerin-fuer-eurpa-dr-anna-luehrmann">https://www
 .rewi.hu-berlin.de/de/lf/oe/lsi/demokratieresilienz-in-der-eu-gastvortrag-v
 on-staatsministerin-fuer-eurpa-dr-anna-luehrmann</a></p><p>[av_button label
 ='iCal-Export' link='./feed/eo-events' link_target='' size='small' position
 ='center' label_display='' title_attr='' icon_select='yes' icon='ue85b' fon
 t='entypo-fontello' color='custom' custom_bg='#b5123e' custom_font='#ffffff
 ' av_uid='' id='' custom_class='' admin_preview_bg='']</p>
CATEGORIES:Recht interdisziplinär
LOCATION:Hybrid
GEO:0.000000;0.000000
ORGANIZER;CN="ViFa-Recht":MAILTO:vifa-recht@sbb.spk-berlin.de
URL;VALUE=URI:https://events.intrecht.de/termine/termin/demokratieresilienz
 -in-der-eu-hybrid-event/
END:VEVENT
BEGIN:VTIMEZONE
TZID:Europe/Berlin
BEGIN:STANDARD
TZOFFSETFROM:+0200
TZOFFSETTO:+0100
DTSTART:20241027T010000
TZNAME:CET
END:STANDARD
END:VTIMEZONE
END:VCALENDAR
