BEGIN:VCALENDAR
VERSION:2.0
PRODID:-//Events | FID-Recht//NONSGML Events//EN
CALSCALE:GREGORIAN
X-ORIGINAL-URL:https://events.intrecht.de/termine/
X-WR-CALDESC:Events | FID-Recht - Events
BEGIN:VEVENT
UID:20200603T1418Z-1591193923.3362-EO-587-1@172.16.200.141
STATUS:CONFIRMED
DTSTAMP:20260422T110213Z
CREATED:20240411T160634Z
LAST-MODIFIED:20240411T160634Z
DTSTART;VALUE=DATE:20240514
DTEND;VALUE=DATE:20240515
SUMMARY: Demokratiedämmerung (Book Launch)
DESCRIPTION: 14.5.2024 / Online und Berlin https://www.rewi.hu-berlin.de/de
 /lf/oe/lsi/termine/demokratiedaemmerung-book-launch-mit-dr-veith-selk-techn
 ische-universitaet-darmstadt
X-ALT-DESC;FMTTYPE=text/html: <p>14.5.2024 / Online und Berlin</p><p><a hre
 f="https://www.rewi.hu-berlin.de/de/lf/oe/lsi/termine/demokratiedaemmerung-
 book-launch-mit-dr-veith-selk-technische-universitaet-darmstadt">https://ww
 w.rewi.hu-berlin.de/de/lf/oe/lsi/termine/demokratiedaemmerung-book-launch-m
 it-dr-veith-selk-technische-universitaet-darmstadt</a></p><p>[av_button lab
 el='iCal-Export' link='./feed/eo-events' link_target='' size='small' positi
 on='center' label_display='' title_attr='' icon_select='yes' icon='ue85b' f
 ont='entypo-fontello' color='custom' custom_bg='#b5123e' custom_font='#ffff
 ff' av_uid='' id='' custom_class='' admin_preview_bg='']</p>
CATEGORIES:Recht interdisziplinär
LOCATION:Hybrid
GEO:0.000000;0.000000
ORGANIZER;CN="ViFa-Recht":MAILTO:vifa-recht@sbb.spk-berlin.de
URL;VALUE=URI:https://events.intrecht.de/termine/termin/demokratiedaemmerun
 g-book-launch/
END:VEVENT
BEGIN:VTIMEZONE
TZID:Europe/Berlin
BEGIN:DAYLIGHT
TZOFFSETFROM:+0100
TZOFFSETTO:+0200
DTSTART:20240331T010000
TZNAME:CEST
END:DAYLIGHT
END:VTIMEZONE
END:VCALENDAR
