BEGIN:VCALENDAR
VERSION:2.0
PRODID:-//Events | FID-Recht//NONSGML Events//EN
CALSCALE:GREGORIAN
X-ORIGINAL-URL:https://events.intrecht.de/termine/
X-WR-CALDESC:Events | FID-Recht - Events
BEGIN:VEVENT
UID:20201001T0145Z-1601516708.9526-EO-1514-1@172.16.200.141
STATUS:CONFIRMED
DTSTAMP:20260422T112244Z
CREATED:20200925T100542Z
LAST-MODIFIED:20200925T100615Z
DTSTART;VALUE=DATE:20200925
DTEND;VALUE=DATE:20200927
SUMMARY: Demokratie – Grundlegender Baustein der internationalen Ordnung? (
 Konferenz der DGIR und der Société française pour le droit international) (
 Konferenz)
DESCRIPTION: 25.-26.9.2020\, Tutzing http://www.dgfir.de/workspace/media/do
 cuments/dgir-newsletter-september-2020.pdf  
X-ALT-DESC;FMTTYPE=text/html: <p>25.-26.9.2020\, Tutzing</p><p><a href="htt
 p://www.dgfir.de/workspace/media/documents/dgir-newsletter-september-2020.p
 df">http://www.dgfir.de/workspace/media/documents/dgir-newsletter-september
 -2020.pdf</a></p><p> </p><p>[av_button label='iCal-Export' link='./feed/eo-
 events' link_target='' size='small' position='center' label_display='' titl
 e_attr='' icon_select='yes' icon='ue85b' font='entypo-fontello' color='cust
 om' custom_bg='#b5123e' custom_font='#ffffff' av_uid='' id='' custom_class=
 '' admin_preview_bg='']</p>
CATEGORIES:Europäisches / Internationales Recht
LOCATION:Inland
GEO:0.000000;0.000000
ORGANIZER;CN="ViFa-Recht":MAILTO:vifa-recht@sbb.spk-berlin.de
URL;VALUE=URI:https://events.intrecht.de/termine/termin/demokratie-grundleg
 ender-baustein-der-internationalen-ordnung-konferenz-der-dgir-und-der-socie
 te-francaise-pour-le-droit-international-konferenz/
END:VEVENT
BEGIN:VTIMEZONE
TZID:Europe/Berlin
BEGIN:DAYLIGHT
TZOFFSETFROM:+0100
TZOFFSETTO:+0200
DTSTART:20200329T010000
TZNAME:CEST
END:DAYLIGHT
END:VTIMEZONE
END:VCALENDAR
