BEGIN:VCALENDAR
VERSION:2.0
PRODID:-//Events | FID-Recht//NONSGML Events//EN
CALSCALE:GREGORIAN
X-ORIGINAL-URL:https://events.intrecht.de/termine/
X-WR-CALDESC:Events | FID-Recht - Events
BEGIN:VEVENT
UID:20200602T0307Z-1591067259.0963-EO-489-1@172.16.200.141
STATUS:CONFIRMED
DTSTAMP:20260420T112822Z
CREATED:20200515T155102Z
LAST-MODIFIED:20200520T073142Z
DTSTART;VALUE=DATE:20200514
DTEND;VALUE=DATE:20200516
SUMMARY: Democracy and Information Warfare – An International Law Perspecti
 ve (Konferenz)
DESCRIPTION: VERSCHOBEN\, neuer Termin: vorauss. Herbst 2020 Ort: Trier htt
 ps://irdt.uni-trier.de/veranstaltungen/democracy-and-information-warfare-an
 -international-law-perspective/    
X-ALT-DESC;FMTTYPE=text/html: <p>VERSCHOBEN\, neuer Termin: vorauss. Herbst
  2020</p><p>Ort: Trier</p><p><a href="https://irdt.uni-trier.de/veranstaltu
 ngen/democracy-and-information-warfare-an-international-law-perspective/">h
 ttps://irdt.uni-trier.de/veranstaltungen/democracy-and-information-warfare-
 an-international-law-perspective/</a></p><p> </p><p> </p><p>[av_button labe
 l='iCal-Export' link='./feed/eo-events' link_target='' size='small' positio
 n='center' label_display='' title_attr='' icon_select='yes' icon='ue85b' fo
 nt='entypo-fontello' color='custom' custom_bg='#b5123e' custom_font='#fffff
 f' av_uid='' id='' custom_class='' admin_preview_bg='']</p>
CATEGORIES:Öffentliches Recht,Recht interdisziplinär
LOCATION:Inland
GEO:0.000000;0.000000
ORGANIZER;CN="ViFa-Recht":MAILTO:vifa-recht@sbb.spk-berlin.de
URL;VALUE=URI:https://events.intrecht.de/termine/termin/democracy-and-infor
 mation-warfare-an-international-law-perspective-konferenz/
END:VEVENT
BEGIN:VTIMEZONE
TZID:Europe/Berlin
BEGIN:DAYLIGHT
TZOFFSETFROM:+0100
TZOFFSETTO:+0200
DTSTART:20200329T010000
TZNAME:CEST
END:DAYLIGHT
END:VTIMEZONE
END:VCALENDAR
