BEGIN:VCALENDAR
VERSION:2.0
PRODID:-//Events | FID-Recht//NONSGML Events//EN
CALSCALE:GREGORIAN
X-ORIGINAL-URL:https://events.intrecht.de/termine/
X-WR-CALDESC:Events | FID-Recht - Events
BEGIN:VEVENT
UID:20201217T0310Z-1608174640.9773-EO-2487-1@172.16.200.141
STATUS:CONFIRMED
DTSTAMP:20260421T115535Z
CREATED:20201211T181436Z
LAST-MODIFIED:20201211T181436Z
DTSTART;VALUE=DATE:20201215
DTEND;VALUE=DATE:20201215
SUMMARY: Democracy and Constitutional Courts – Toward a Responsive Theory o
 f Judicial Review (with Rosalind Dixon) (Online-Vortrag)
DESCRIPTION: 15.12.2020\, Online https://www.unibocconi.eu/wps/wcm/connect/
 ev/events/bocconi+events/democracy+and+constitutional+courts+toward+a+respo
 nsive+theory+of+judicial+review  
X-ALT-DESC;FMTTYPE=text/html: <p>15.12.2020\, Online</p><p><a href="https:/
 /www.unibocconi.eu/wps/wcm/connect/ev/events/bocconi+events/democracy+and+c
 onstitutional+courts+toward+a+responsive+theory+of+judicial+review">https:/
 /www.unibocconi.eu/wps/wcm/connect/ev/events/bocconi+events/democracy+and+c
 onstitutional+courts+toward+a+responsive+theory+of+judicial+review</a></p><
 p> </p><p>[av_button label='iCal-Export' link='./feed/eo-events' link_targe
 t='' size='small' position='center' label_display='' title_attr='' icon_sel
 ect='yes' icon='ue85b' font='entypo-fontello' color='custom' custom_bg='#b5
 123e' custom_font='#ffffff' av_uid='' id='' custom_class='' admin_preview_b
 g='']</p>
CATEGORIES:Öffentliches Recht
ORGANIZER;CN="ViFa-Recht":MAILTO:vifa-recht@sbb.spk-berlin.de
URL;VALUE=URI:https://events.intrecht.de/termine/termin/democracy-and-const
 itutional-courts-toward-a-responsive-theory-of-judicial-review-with-rosalin
 d-dixon-online-vortrag/
END:VEVENT
BEGIN:VTIMEZONE
TZID:Europe/Berlin
BEGIN:STANDARD
TZOFFSETFROM:+0200
TZOFFSETTO:+0100
DTSTART:20201025T010000
TZNAME:CET
END:STANDARD
END:VTIMEZONE
END:VCALENDAR
