BEGIN:VCALENDAR
VERSION:2.0
PRODID:-//Events | FID-Recht//NONSGML Events//EN
CALSCALE:GREGORIAN
X-ORIGINAL-URL:https://events.intrecht.de/termine/
X-WR-CALDESC:Events | FID-Recht - Events
BEGIN:VEVENT
UID:20201221T2019Z-1608581971.5379-EO-2505-1@172.16.200.141
STATUS:CONFIRMED
DTSTAMP:20260421T184221Z
CREATED:20201221T173817Z
LAST-MODIFIED:20201221T174659Z
DTSTART;VALUE=DATE:20210115
DTEND;VALUE=DATE:20210116
SUMMARY: Delocalised Justice – The transnationalisation of corporate accoun
 tability for human rights violations originating in Africa (Online-Konferen
 z) (CfP)
DESCRIPTION: 24.-26.3.2021\, Online (Frist für Einreichungen: 15.1.2021) ht
 tps://www.afronomicslaw.org/2020/11/11/call-for-papers-delocalised-justice-
 the-transnationalisation-of-corporate-accountability-for-human-rights-viola
 tions-originating-in-africa/  
X-ALT-DESC;FMTTYPE=text/html: <p>24.-26.3.2021\, Online (Frist für Einreich
 ungen: 15.1.2021)</p><p><a href="https://www.afronomicslaw.org/2020/11/11/c
 all-for-papers-delocalised-justice-the-transnationalisation-of-corporate-ac
 countability-for-human-rights-violations-originating-in-africa/">https://ww
 w.afronomicslaw.org/2020/11/11/call-for-papers-delocalised-justice-the-tran
 snationalisation-of-corporate-accountability-for-human-rights-violations-or
 iginating-in-africa/</a></p><p> </p><p>[av_button label='iCal-Export' link=
 './feed/eo-events' link_target='' size='small' position='center' label_disp
 lay='' title_attr='' icon_select='yes' icon='ue85b' font='entypo-fontello' 
 color='custom' custom_bg='#b5123e' custom_font='#ffffff' av_uid='' id='' cu
 stom_class='' admin_preview_bg='']</p>
CATEGORIES:Europäisches / Internationales Recht,Zivilrecht
LOCATION:Online
GEO:0.000000;0.000000
ORGANIZER;CN="ViFa-Recht":MAILTO:vifa-recht@sbb.spk-berlin.de
URL;VALUE=URI:https://events.intrecht.de/termine/termin/delocalised-justice
 -the-transnationalisation-of-corporate-accountability-for-human-rights-viol
 ations-originating-in-africa-online-konferenz-cfp/
END:VEVENT
BEGIN:VTIMEZONE
TZID:Europe/Berlin
BEGIN:STANDARD
TZOFFSETFROM:+0200
TZOFFSETTO:+0100
DTSTART:20201025T010000
TZNAME:CET
END:STANDARD
END:VTIMEZONE
END:VCALENDAR
