BEGIN:VCALENDAR
VERSION:2.0
PRODID:-//Events | FID-Recht//NONSGML Events//EN
CALSCALE:GREGORIAN
X-ORIGINAL-URL:https://events.intrecht.de/termine/
X-WR-CALDESC:Events | FID-Recht - Events
BEGIN:VEVENT
UID:20200603T1418Z-1591193923.3362-EO-587-1@172.16.200.141
STATUS:CONFIRMED
DTSTAMP:20260422T173617Z
CREATED:20240523T164902Z
LAST-MODIFIED:20241127T171236Z
DTSTART;VALUE=DATE:20250115
DTEND;VALUE=DATE:20250118
SUMMARY: Defund Meat Conference
DESCRIPTION: 15.-17.1.2025 / Heidelberg https://www.mpil.de/en/pub/news/con
 ferences-workshops/defund-meat.cfm
X-ALT-DESC;FMTTYPE=text/html: <p>15.-17.1.2025 / Heidelberg</p><p><a href="
 https://www.mpil.de/en/pub/news/conferences-workshops/defund-meat.cfm">http
 s://www.mpil.de/en/pub/news/conferences-workshops/defund-meat.cfm</a></p><p
 >[av_button label='iCal-Export' link='./feed/eo-events' link_target='' size
 ='small' position='center' label_display='' title_attr='' icon_select='yes'
  icon='ue85b' font='entypo-fontello' color='custom' custom_bg='#b5123e' cus
 tom_font='#ffffff' av_uid='' id='' custom_class='' admin_preview_bg='']</p>
CATEGORIES:Recht interdisziplinär
LOCATION:Inland
GEO:0.000000;0.000000
ORGANIZER;CN="ViFa-Recht":MAILTO:vifa-recht@sbb.spk-berlin.de
URL;VALUE=URI:https://events.intrecht.de/termine/termin/defund-meat-confere
 nce/
END:VEVENT
BEGIN:VTIMEZONE
TZID:Europe/Berlin
BEGIN:STANDARD
TZOFFSETFROM:+0200
TZOFFSETTO:+0100
DTSTART:20241027T010000
TZNAME:CET
END:STANDARD
END:VTIMEZONE
END:VCALENDAR
