BEGIN:VCALENDAR
VERSION:2.0
PRODID:-//Events | FID-Recht//NONSGML Events//EN
CALSCALE:GREGORIAN
X-ORIGINAL-URL:https://events.intrecht.de/termine/
X-WR-CALDESC:Events | FID-Recht - Events
BEGIN:VEVENT
UID:20200603T1418Z-1591193923.3362-EO-587-1@172.16.200.141
STATUS:CONFIRMED
DTSTAMP:20260422T211431Z
CREATED:20250110T141512Z
LAST-MODIFIED:20250110T141512Z
DTSTART;VALUE=DATE:20250115
DTEND;VALUE=DATE:20250116
SUMMARY: Decolonial Theory and Law: Reading Group No 9 (Online Event)
DESCRIPTION: 15.1.2025 / Online https://law.mpg.de/event/decolonial-theory-
 and-law-reading-group-no-9/
X-ALT-DESC;FMTTYPE=text/html: <p>15.1.2025 / Online</p><p><a href="https://
 law.mpg.de/event/decolonial-theory-and-law-reading-group-no-9/">https://law
 .mpg.de/event/decolonial-theory-and-law-reading-group-no-9/</a></p><p>[av_b
 utton label='iCal-Export' link='./feed/eo-events' link_target='' size='smal
 l' position='center' label_display='' title_attr='' icon_select='yes' icon=
 'ue85b' font='entypo-fontello' color='custom' custom_bg='#b5123e' custom_fo
 nt='#ffffff' av_uid='' id='' custom_class='' admin_preview_bg='']</p>
CATEGORIES:Recht interdisziplinär
LOCATION:Online
GEO:0.000000;0.000000
ORGANIZER;CN="ViFa-Recht":MAILTO:vifa-recht@sbb.spk-berlin.de
URL;VALUE=URI:https://events.intrecht.de/termine/termin/decolonial-theory-a
 nd-law-reading-group-no-9-online-event/
END:VEVENT
BEGIN:VTIMEZONE
TZID:Europe/Berlin
BEGIN:STANDARD
TZOFFSETFROM:+0200
TZOFFSETTO:+0100
DTSTART:20241027T010000
TZNAME:CET
END:STANDARD
END:VTIMEZONE
END:VCALENDAR
