BEGIN:VCALENDAR
VERSION:2.0
PRODID:-//Events | FID-Recht//NONSGML Events//EN
CALSCALE:GREGORIAN
X-ORIGINAL-URL:https://events.intrecht.de/termine/
X-WR-CALDESC:Events | FID-Recht - Events
BEGIN:VEVENT
UID:20201005T2015Z-1601928906.4674-EO-1651-1@172.16.200.141
STATUS:CONFIRMED
DTSTAMP:20260422T050638Z
CREATED:20201002T102847Z
LAST-MODIFIED:20201002T102847Z
DTSTART;VALUE=DATE:20201006
DTEND;VALUE=DATE:20201006
SUMMARY: Decolonial Comparative Law Workshop / Dekoloniale Rechtsvergleichu
 ng (Workshop)
DESCRIPTION: 6.10.2020\, Online https://www.mpipriv.de/1001776/dekoloniale-
 rechtsvergleichung  
X-ALT-DESC;FMTTYPE=text/html: <p>6.10.2020\, Online</p><p><a href="https://
 www.mpipriv.de/1001776/dekoloniale-rechtsvergleichung">https://www.mpipriv.
 de/1001776/dekoloniale-rechtsvergleichung</a></p><p> </p><p>[av_button labe
 l='iCal-Export' link='./feed/eo-events' link_target='' size='small' positio
 n='center' label_display='' title_attr='' icon_select='yes' icon='ue85b' fo
 nt='entypo-fontello' color='custom' custom_bg='#b5123e' custom_font='#fffff
 f' av_uid='' id='' custom_class='' admin_preview_bg='']</p>
CATEGORIES:Recht interdisziplinär
LOCATION:Online
GEO:0.000000;0.000000
ORGANIZER;CN="ViFa-Recht":MAILTO:vifa-recht@sbb.spk-berlin.de
URL;VALUE=URI:https://events.intrecht.de/termine/termin/decolonial-comparat
 ive-law-workshop-dekoloniale-rechtsvergleichung-workshop/
END:VEVENT
BEGIN:VTIMEZONE
TZID:Europe/Berlin
BEGIN:DAYLIGHT
TZOFFSETFROM:+0100
TZOFFSETTO:+0200
DTSTART:20200329T010000
TZNAME:CEST
END:DAYLIGHT
END:VTIMEZONE
END:VCALENDAR
