BEGIN:VCALENDAR
VERSION:2.0
PRODID:-//Events | FID-Recht//NONSGML Events//EN
CALSCALE:GREGORIAN
X-ORIGINAL-URL:https://events.intrecht.de/termine/
X-WR-CALDESC:Events | FID-Recht - Events
BEGIN:VEVENT
UID:20200603T1418Z-1591193923.3362-EO-587-1@172.16.200.141
STATUS:CONFIRMED
DTSTAMP:20260425T215822Z
CREATED:20230307T153837Z
LAST-MODIFIED:20230307T153949Z
DTSTART;VALUE=DATE:20230704
DTEND;VALUE=DATE:20230709
SUMMARY: Decolonial Comparative Law Summer School 2023
DESCRIPTION: 4.-8.7.2023 / Hamburg (Anmeldefrist: 19.3.2023) https://www.mp
 ipriv.de/1602809/2023-07-04-decolonial-comparative-law-summer-school-2023
X-ALT-DESC;FMTTYPE=text/html: <p>4.-8.7.2023 / Hamburg <strong>(Anmeldefris
 t:</strong> <strong>19.3.2023)</strong></p><p><a href="https://www.mpipriv.
 de/1602809/2023-07-04-decolonial-comparative-law-summer-school-2023">https:
 //www.mpipriv.de/1602809/2023-07-04-decolonial-comparative-law-summer-schoo
 l-2023</a></p><p>[av_button label='iCal-Export' link='./feed/eo-events' lin
 k_target='' size='small' position='center' label_display='' title_attr='' i
 con_select='yes' icon='ue85b' font='entypo-fontello' color='custom' custom_
 bg='#b5123e' custom_font='#ffffff' av_uid='' id='' custom_class='' admin_pr
 eview_bg='']</p>
CATEGORIES:Recht interdisziplinär
LOCATION:Inland
GEO:0.000000;0.000000
ORGANIZER;CN="ViFa-Recht":MAILTO:vifa-recht@sbb.spk-berlin.de
URL;VALUE=URI:https://events.intrecht.de/termine/termin/decolonial-comparat
 ive-law-summer-school-2023/
END:VEVENT
BEGIN:VTIMEZONE
TZID:Europe/Berlin
BEGIN:DAYLIGHT
TZOFFSETFROM:+0100
TZOFFSETTO:+0200
DTSTART:20230326T010000
TZNAME:CEST
END:DAYLIGHT
END:VTIMEZONE
END:VCALENDAR
