BEGIN:VCALENDAR
VERSION:2.0
PRODID:-//Events | FID-Recht//NONSGML Events//EN
CALSCALE:GREGORIAN
X-ORIGINAL-URL:https://events.intrecht.de/termine/
X-WR-CALDESC:Events | FID-Recht - Events
BEGIN:VEVENT
UID:20200603T1418Z-1591193923.3362-EO-587-1@172.16.200.141
STATUS:CONFIRMED
DTSTAMP:20260422T211516Z
CREATED:20241115T150823Z
LAST-MODIFIED:20241115T150823Z
DTSTART;VALUE=DATE:20250106
DTEND;VALUE=DATE:20250107
SUMMARY: Debunking the reference champion: On uses\, non-uses\, and misuses
  of preliminary references by German courts (Hybrid Event)
DESCRIPTION: 6.1.2025 / Online und Berlin https://www.rewi.hu-berlin.de/de/
 lf/oe/lsi/werkstattgespraech-debunking-the-reference-champion-on-uses-non-u
 ses-and-misuses-of-preliminary-references-by-german-courts-mit-dr-dimitrios
 -spieker
X-ALT-DESC;FMTTYPE=text/html: <p>6.1.2025 / Online und Berlin</p><p><a href
 ="https://www.rewi.hu-berlin.de/de/lf/oe/lsi/werkstattgespraech-debunking-t
 he-reference-champion-on-uses-non-uses-and-misuses-of-preliminary-reference
 s-by-german-courts-mit-dr-dimitrios-spieker">https://www.rewi.hu-berlin.de/
 de/lf/oe/lsi/werkstattgespraech-debunking-the-reference-champion-on-uses-no
 n-uses-and-misuses-of-preliminary-references-by-german-courts-mit-dr-dimitr
 ios-spieker</a></p><p>[av_button label='iCal-Export' link='./feed/eo-events
 ' link_target='' size='small' position='center' label_display='' title_attr
 ='' icon_select='yes' icon='ue85b' font='entypo-fontello' color='custom' cu
 stom_bg='#b5123e' custom_font='#ffffff' av_uid='' id='' custom_class='' adm
 in_preview_bg='']</p>
CATEGORIES:Recht interdisziplinär
LOCATION:Hybrid
GEO:0.000000;0.000000
ORGANIZER;CN="ViFa-Recht":MAILTO:vifa-recht@sbb.spk-berlin.de
URL;VALUE=URI:https://events.intrecht.de/termine/termin/debunking-the-refer
 ence-champion-on-uses-non-uses-and-misuses-of-preliminary-references-by-ger
 man-courts-hybrid-event/
END:VEVENT
BEGIN:VTIMEZONE
TZID:Europe/Berlin
BEGIN:STANDARD
TZOFFSETFROM:+0200
TZOFFSETTO:+0100
DTSTART:20241027T010000
TZNAME:CET
END:STANDARD
END:VTIMEZONE
END:VCALENDAR
