BEGIN:VCALENDAR
VERSION:2.0
PRODID:-//Events | FID-Recht//NONSGML Events//EN
CALSCALE:GREGORIAN
X-ORIGINAL-URL:https://events.intrecht.de/termine/
X-WR-CALDESC:Events | FID-Recht - Events
BEGIN:VEVENT
UID:20201217T0425Z-1608179132.4132-EO-2655-1@172.16.200.141
STATUS:CONFIRMED
DTSTAMP:20260421T115506Z
CREATED:20201201T184104Z
LAST-MODIFIED:20201201T184104Z
DTSTART;VALUE=DATE:20201210
DTEND;VALUE=DATE:20201210
SUMMARY: Debatten um die Regulierung des Schwangerschaftsabbruchs: kulturel
 le Differenzen oder westdeutsche Hegemonie? (mit Ulrike Lembke) (Online-Vor
 trag)
DESCRIPTION: 10.12.2020 https://www.jura.uni-wuerzburg.de/lehrstuehle/schma
 hl/aktuelles/meldungen/single/news/debatten-um-die-regulierung-des-schwange
 rschaftsabbruchs-kulturelle-differenzen-oder-westdeutsche-h-1/  
X-ALT-DESC;FMTTYPE=text/html: <p>10.12.2020</p><p><a href="https://www.jura
 .uni-wuerzburg.de/lehrstuehle/schmahl/aktuelles/meldungen/single/news/debat
 ten-um-die-regulierung-des-schwangerschaftsabbruchs-kulturelle-differenzen-
 oder-westdeutsche-h-1/">https://www.jura.uni-wuerzburg.de/lehrstuehle/schma
 hl/aktuelles/meldungen/single/news/debatten-um-die-regulierung-des-schwange
 rschaftsabbruchs-kulturelle-differenzen-oder-westdeutsche-h-1/</a></p><p> <
 /p><p>[av_button label='iCal-Export' link='./feed/eo-events' link_target=''
  size='small' position='center' label_display='' title_attr='' icon_select=
 'yes' icon='ue85b' font='entypo-fontello' color='custom' custom_bg='#b5123e
 ' custom_font='#ffffff' av_uid='' id='' custom_class='' admin_preview_bg=''
 ]</p>
CATEGORIES:Recht interdisziplinär,Strafrecht
LOCATION:Online
GEO:0.000000;0.000000
ORGANIZER;CN="ViFa-Recht":MAILTO:vifa-recht@sbb.spk-berlin.de
URL;VALUE=URI:https://events.intrecht.de/termine/termin/debatten-um-die-reg
 ulierung-des-schwangerschaftsabbruchs-kulturelle-differenzen-oder-westdeuts
 che-hegemonie-mit-ulrike-lembke-online-vortrag/
END:VEVENT
BEGIN:VTIMEZONE
TZID:Europe/Berlin
BEGIN:STANDARD
TZOFFSETFROM:+0200
TZOFFSETTO:+0100
DTSTART:20201025T010000
TZNAME:CET
END:STANDARD
END:VTIMEZONE
END:VCALENDAR
