BEGIN:VCALENDAR
VERSION:2.0
PRODID:-//Events | FID-Recht//NONSGML Events//EN
CALSCALE:GREGORIAN
X-ORIGINAL-URL:https://events.intrecht.de/termine/
X-WR-CALDESC:Events | FID-Recht - Events
BEGIN:VEVENT
UID:20200603T1418Z-1591193923.3362-EO-587-1@172.16.200.141
STATUS:CONFIRMED
DTSTAMP:20260423T084728Z
CREATED:20250902T120200Z
LAST-MODIFIED:20250902T120200Z
DTSTART;VALUE=DATE:20251001
DTEND;VALUE=DATE:20251003
SUMMARY: Datenschutz und Digitalpolitik in krisenhaften Zeiten (10. Interdi
 sziplinäre Jahrestagung der Plattform Privatheit)
DESCRIPTION: 1.-2.10.2025 / Berlin https://plattform-privatheit.de/p-prv/ja
 hreskonferenzen/jahreskonferenz-2025.php
X-ALT-DESC;FMTTYPE=text/html: <p>1.-2.10.2025 / Berlin</p><p><a href="https
 ://plattform-privatheit.de/p-prv/jahreskonferenzen/jahreskonferenz-2025.php
 ">https://plattform-privatheit.de/p-prv/jahreskonferenzen/jahreskonferenz-2
 025.php</a></p><p>[av_button label='iCal-Export' link='./feed/eo-events' li
 nk_target='' size='small' position='center' label_display='' title_attr='' 
 icon_select='yes' icon='ue85b' font='entypo-fontello' color='custom' custom
 _bg='#b5123e' custom_font='#ffffff' av_uid='' id='' custom_class='' admin_p
 review_bg='']</p>
CATEGORIES:Recht interdisziplinär
LOCATION:Inland
GEO:0.000000;0.000000
ORGANIZER;CN="ViFa-Recht":MAILTO:vifa-recht@sbb.spk-berlin.de
URL;VALUE=URI:https://events.intrecht.de/termine/termin/datenschutz-und-dig
 italpolitik-in-krisenhaften-zeiten-10-interdisziplinaere-jahrestagung-der-p
 lattform-privatheit/
END:VEVENT
BEGIN:VTIMEZONE
TZID:Europe/Berlin
BEGIN:DAYLIGHT
TZOFFSETFROM:+0100
TZOFFSETTO:+0200
DTSTART:20250330T010000
TZNAME:CEST
END:DAYLIGHT
END:VTIMEZONE
END:VCALENDAR
