BEGIN:VCALENDAR
VERSION:2.0
PRODID:-//Events | FID-Recht//NONSGML Events//EN
CALSCALE:GREGORIAN
X-ORIGINAL-URL:https://events.intrecht.de/termine/
X-WR-CALDESC:Events | FID-Recht - Events
BEGIN:VEVENT
UID:20211002T0838Z-1633163897.1201-EO-4816-1@172.16.200.141
STATUS:CONFIRMED
DTSTAMP:20260421T151459Z
CREATED:20210930T175541Z
LAST-MODIFIED:20210930T175541Z
DTSTART;TZID=Europe/Berlin:20211111T160000
DTEND;TZID=Europe/Berlin:20211111T170000
SUMMARY: Data Protection Laws in the Western Balkans: Let’s Talk about Adeq
 uacy! – Macedonia (Online-Podiumsdiskussion)
DESCRIPTION: 11.11.2021\, Online Data Protection Laws in the Western Balkan
 s • University of Passau (uni-passau.de)  
X-ALT-DESC;FMTTYPE=text/html: <p>11.11.2021\, Online</p><p><a href="https:/
 /www.jura.uni-passau.de/index.php?id=131045&L=1">Data Protection Laws in th
 e Western Balkans • University of Passau (uni-passau.de)</a></p><p> </p><p>
 [av_button label='iCal-Export' link='./feed/eo-events' link_target='' size=
 'small' position='center' label_display='' title_attr='' icon_select='yes' 
 icon='ue85b' font='entypo-fontello' color='custom' custom_bg='#b5123e' cust
 om_font='#ffffff' av_uid='' id='' custom_class='' admin_preview_bg='']</p>
CATEGORIES:Recht interdisziplinär
LOCATION:Online
GEO:0.000000;0.000000
ORGANIZER;CN="ViFa-Recht":MAILTO:vifa-recht@sbb.spk-berlin.de
URL;VALUE=URI:https://events.intrecht.de/termine/termin/data-protection-law
 s-in-the-western-balkans-lets-talk-about-adequacy-macedonia-online-podiumsd
 iskussion/
END:VEVENT
BEGIN:VTIMEZONE
TZID:Europe/Berlin
BEGIN:STANDARD
TZOFFSETFROM:+0200
TZOFFSETTO:+0100
DTSTART:20211031T010000
TZNAME:CET
END:STANDARD
END:VTIMEZONE
END:VCALENDAR
