BEGIN:VCALENDAR
VERSION:2.0
PRODID:-//Events | FID-Recht//NONSGML Events//EN
CALSCALE:GREGORIAN
X-ORIGINAL-URL:https://events.intrecht.de/termine/
X-WR-CALDESC:Events | FID-Recht - Events
BEGIN:VEVENT
UID:20200602T0945Z-1591091115.9737-EO-599-1@172.16.200.141
STATUS:CONFIRMED
DTSTAMP:20260425T132434Z
CREATED:20260310T092152Z
LAST-MODIFIED:20260310T092152Z
DTSTART;VALUE=DATE:20260925
DTEND;VALUE=DATE:20260926
SUMMARY: Das Recht der Circular Economy (JuWissDay 2026)
DESCRIPTION: 25.9.2026 / Mannheim (Einreichungsfrist: 31.3.2026) https://ww
 w.juwiss.de/wp-content/uploads/2026/03/juwissday-2026-cfa.pdf
X-ALT-DESC;FMTTYPE=text/html: <p>25.9.2026 / Mannheim <strong>(Einreichungs
 frist: 31.3.2026)</strong></p><p><a href="https://www.juwiss.de/wp-content/
 uploads/2026/03/juwissday-2026-cfa.pdf">https://www.juwiss.de/wp-content/up
 loads/2026/03/juwissday-2026-cfa.pdf</a></p><p>[av_button label='iCal-Expor
 t' link='./feed/eo-events' link_target='' size='small' position='center' la
 bel_display='' title_attr='' icon_select='yes' icon='ue85b' font='entypo-fo
 ntello' color='custom' custom_bg='#b5123e' custom_font='#ffffff' av_uid='' 
 id='' custom_class='' admin_preview_bg='']</p>
CATEGORIES:Recht interdisziplinär
LOCATION:Inland
GEO:0.000000;0.000000
ORGANIZER;CN="ViFa-Recht":MAILTO:vifa-recht@sbb.spk-berlin.de
URL;VALUE=URI:https://events.intrecht.de/termine/termin/das-recht-der-circu
 lar-economy-juwissday-2026/
END:VEVENT
BEGIN:VTIMEZONE
TZID:Europe/Berlin
BEGIN:DAYLIGHT
TZOFFSETFROM:+0100
TZOFFSETTO:+0200
DTSTART:20260329T010000
TZNAME:CEST
END:DAYLIGHT
END:VTIMEZONE
END:VCALENDAR
