BEGIN:VCALENDAR
VERSION:2.0
PRODID:-//Events | FID-Recht//NONSGML Events//EN
CALSCALE:GREGORIAN
X-ORIGINAL-URL:https://events.intrecht.de/termine/
X-WR-CALDESC:Events | FID-Recht - Events
BEGIN:VEVENT
UID:20211002T0838Z-1633163892.9016-EO-4662-1@172.16.200.141
STATUS:CONFIRMED
DTSTAMP:20260425T132725Z
CREATED:20210927T155104Z
LAST-MODIFIED:20210927T155104Z
DTSTART;VALUE=DATE:20220224
DTEND;VALUE=DATE:20220226
SUMMARY: Das „Recht auf sexuelle Selbstbestimmung“ – Gewalt\, Autonomie und
  Handlungsmacht seit 1872 (Tagung)
DESCRIPTION: 24.-25.2.2022\, Berlin (Frist für Einreichungen: 3.10.2021) Ca
 ll_Sexuelle_Selbstbestimmung (fu-berlin.de)  
X-ALT-DESC;FMTTYPE=text/html: <p>24.-25.2.2022\, Berlin (Frist für Einreich
 ungen: 3.10.2021)</p><p><a href="https://www.geschkult.fu-berlin.de/e/fmi/b
 ereiche/ab_didaktik/Dateiablage/Call_Sexuelle_Selbstbestimmung.pdf">Call_Se
 xuelle_Selbstbestimmung (fu-berlin.de)</a></p><p> </p><p>[av_button label='
 iCal-Export' link='./feed/eo-events' link_target='' size='small' position='
 center' label_display='' title_attr='' icon_select='yes' icon='ue85b' font=
 'entypo-fontello' color='custom' custom_bg='#b5123e' custom_font='#ffffff' 
 av_uid='' id='' custom_class='' admin_preview_bg='']</p>
CATEGORIES:Öffentliches Recht,Recht interdisziplinär
LOCATION:Inland
GEO:0.000000;0.000000
ORGANIZER;CN="ViFa-Recht":MAILTO:vifa-recht@sbb.spk-berlin.de
URL;VALUE=URI:https://events.intrecht.de/termine/termin/das-recht-auf-sexue
 lle-selbstbestimmung-gewalt-autonomie-und-handlungsmacht-seit-1872-tagung/
END:VEVENT
BEGIN:VTIMEZONE
TZID:Europe/Berlin
BEGIN:STANDARD
TZOFFSETFROM:+0200
TZOFFSETTO:+0100
DTSTART:20211031T010000
TZNAME:CET
END:STANDARD
END:VTIMEZONE
END:VCALENDAR
