BEGIN:VCALENDAR
VERSION:2.0
PRODID:-//Events | FID-Recht//NONSGML Events//EN
CALSCALE:GREGORIAN
X-ORIGINAL-URL:https://events.intrecht.de/termine/
X-WR-CALDESC:Events | FID-Recht - Events
BEGIN:VEVENT
UID:20200603T1418Z-1591193923.3362-EO-587-1@172.16.200.141
STATUS:CONFIRMED
DTSTAMP:20260422T110902Z
CREATED:20240411T160337Z
LAST-MODIFIED:20240411T160426Z
DTSTART;VALUE=DATE:20240506
DTEND;VALUE=DATE:20240507
SUMMARY: Das „Provenienz-Problem“ in den Rechtswissenschaften und der Philo
 sophie (Hybride Eröffnungsveranstaltung / Provenienz des Rechts: Zum Umgang
  mit Antisemitismus\, Rassismus und Sexismus im juristischen Wissen)
DESCRIPTION: 6.5.2024 / Online und Berlin https://www.rewi.hu-berlin.de/de/
 lf/oe/lsi/eroeffnung-das-provenienz-problem-in-den-rechtswissenschaften-und
 -der-philosophie
X-ALT-DESC;FMTTYPE=text/html: <p>6.5.2024 / Online und Berlin</p><p><a href
 ="https://www.rewi.hu-berlin.de/de/lf/oe/lsi/eroeffnung-das-provenienz-prob
 lem-in-den-rechtswissenschaften-und-der-philosophie">https://www.rewi.hu-be
 rlin.de/de/lf/oe/lsi/eroeffnung-das-provenienz-problem-in-den-rechtswissens
 chaften-und-der-philosophie</a></p><p>[av_button label='iCal-Export' link='
 ./feed/eo-events' link_target='' size='small' position='center' label_displ
 ay='' title_attr='' icon_select='yes' icon='ue85b' font='entypo-fontello' c
 olor='custom' custom_bg='#b5123e' custom_font='#ffffff' av_uid='' id='' cus
 tom_class='' admin_preview_bg='']</p>
CATEGORIES:Recht interdisziplinär
LOCATION:Hybrid
GEO:0.000000;0.000000
ORGANIZER;CN="ViFa-Recht":MAILTO:vifa-recht@sbb.spk-berlin.de
URL;VALUE=URI:https://events.intrecht.de/termine/termin/das-provenienz-prob
 lem-in-den-rechtswissenschaften-und-der-philosophie-hybride-eroeffnungsvera
 nstaltung-provenienz-des-rechts-zum-umgang-mit-antisemitismus-rassismus-und
 -sexismus-im-juristisch/
END:VEVENT
BEGIN:VTIMEZONE
TZID:Europe/Berlin
BEGIN:DAYLIGHT
TZOFFSETFROM:+0100
TZOFFSETTO:+0200
DTSTART:20240331T010000
TZNAME:CEST
END:DAYLIGHT
END:VTIMEZONE
END:VCALENDAR
