BEGIN:VCALENDAR
VERSION:2.0
PRODID:-//Events | FID-Recht//NONSGML Events//EN
CALSCALE:GREGORIAN
X-ORIGINAL-URL:https://events.intrecht.de/termine/
X-WR-CALDESC:Events | FID-Recht - Events
BEGIN:VEVENT
UID:20200603T1418Z-1591193923.3362-EO-587-1@172.16.200.141
STATUS:CONFIRMED
DTSTAMP:20260425T150855Z
CREATED:20230413T083007Z
LAST-MODIFIED:20230413T083007Z
DTSTART;VALUE=DATE:20231005
DTEND;VALUE=DATE:20231007
SUMMARY: Das Internet als Tatort (Tagung)
DESCRIPTION: 5.-6.10.2023 / Wiesbaden (Anmeldefrist: 27.9.2023) https://www
 .krimz.de/tagungen/fachtagung-2023.html
X-ALT-DESC;FMTTYPE=text/html: <p>5.-6.10.2023 / Wiesbaden <strong>(Anmeldef
 rist:</strong> <strong>27.9.2023)</strong></p><p><a href="https://www.krimz
 .de/tagungen/fachtagung-2023.html">https://www.krimz.de/tagungen/fachtagung
 -2023.html</a></p><p>[av_button label='iCal-Export' link='./feed/eo-events'
  link_target='' size='small' position='center' label_display='' title_attr=
 '' icon_select='yes' icon='ue85b' font='entypo-fontello' color='custom' cus
 tom_bg='#b5123e' custom_font='#ffffff' av_uid='' id='' custom_class='' admi
 n_preview_bg='']</p>
CATEGORIES:Strafrecht
LOCATION:Inland
GEO:0.000000;0.000000
ORGANIZER;CN="ViFa-Recht":MAILTO:vifa-recht@sbb.spk-berlin.de
URL;VALUE=URI:https://events.intrecht.de/termine/termin/das-internet-als-ta
 tort-tagung/
END:VEVENT
BEGIN:VTIMEZONE
TZID:Europe/Berlin
BEGIN:DAYLIGHT
TZOFFSETFROM:+0100
TZOFFSETTO:+0200
DTSTART:20230326T010000
TZNAME:CEST
END:DAYLIGHT
END:VTIMEZONE
END:VCALENDAR
