BEGIN:VCALENDAR
VERSION:2.0
PRODID:-//Events | FID-Recht//NONSGML Events//EN
CALSCALE:GREGORIAN
X-ORIGINAL-URL:https://events.intrecht.de/termine/
X-WR-CALDESC:Events | FID-Recht - Events
BEGIN:VEVENT
UID:20200603T1418Z-1591193923.3362-EO-587-1@172.16.200.141
STATUS:CONFIRMED
DTSTAMP:20260425T145724Z
CREATED:20230426T081125Z
LAST-MODIFIED:20230426T081125Z
DTSTART;VALUE=DATE:20230616
DTEND;VALUE=DATE:20230618
SUMMARY: Das Gutachten zum ausländischen Recht im Prozess des 21. Jahrhunde
 rts (Tagung)
DESCRIPTION: 16.-17.6.2023 / Hamburg https://events.mpipriv.de/gutachtentag
 ung_2023
X-ALT-DESC;FMTTYPE=text/html: <p>16.-17.6.2023 / Hamburg</p><p><a href="htt
 ps://events.mpipriv.de/gutachtentagung_2023">https://events.mpipriv.de/guta
 chtentagung_2023</a></p><p>[av_button label='iCal-Export' link='./feed/eo-e
 vents' link_target='' size='small' position='center' label_display='' title
 _attr='' icon_select='yes' icon='ue85b' font='entypo-fontello' color='custo
 m' custom_bg='#b5123e' custom_font='#ffffff' av_uid='' id='' custom_class='
 ' admin_preview_bg='']</p>
CATEGORIES:Zivilrecht
LOCATION:Inland
GEO:0.000000;0.000000
ORGANIZER;CN="ViFa-Recht":MAILTO:vifa-recht@sbb.spk-berlin.de
URL;VALUE=URI:https://events.intrecht.de/termine/termin/das-gutachten-zum-a
 uslaendischen-recht-im-prozess-des-21-jahrhunderts-tagung/
END:VEVENT
BEGIN:VTIMEZONE
TZID:Europe/Berlin
BEGIN:DAYLIGHT
TZOFFSETFROM:+0100
TZOFFSETTO:+0200
DTSTART:20230326T010000
TZNAME:CEST
END:DAYLIGHT
END:VTIMEZONE
END:VCALENDAR
