BEGIN:VCALENDAR
VERSION:2.0
PRODID:-//Events | FID-Recht//NONSGML Events//EN
CALSCALE:GREGORIAN
X-ORIGINAL-URL:https://events.intrecht.de/termine/
X-WR-CALDESC:Events | FID-Recht - Events
BEGIN:VEVENT
UID:20200603T1418Z-1591193923.3362-EO-587-1@172.16.200.141
STATUS:CONFIRMED
DTSTAMP:20260422T211350Z
CREATED:20250509T112017Z
LAST-MODIFIED:20250509T112124Z
DTSTART;VALUE=DATE:20250519
DTEND;VALUE=DATE:20250520
SUMMARY: Das Andere des Arbeitsrechts (Hybrid Event / Book Launch)
DESCRIPTION: 19.5.2025 / Online und Berlin https://www.rewi.hu-berlin.de/de
 /lf/oe/lsi/das-andere-arbeitsrecht-book-launch-mit-eva-kocher
X-ALT-DESC;FMTTYPE=text/html: <p>19.5.2025 / Online und Berlin</p><p><a hre
 f="https://www.rewi.hu-berlin.de/de/lf/oe/lsi/das-andere-arbeitsrecht-book-
 launch-mit-eva-kocher">https://www.rewi.hu-berlin.de/de/lf/oe/lsi/das-ander
 e-arbeitsrecht-book-launch-mit-eva-kocher</a></p><p>[av_button label='iCal-
 Export' link='./feed/eo-events' link_target='' size='small' position='cente
 r' label_display='' title_attr='' icon_select='yes' icon='ue85b' font='enty
 po-fontello' color='custom' custom_bg='#b5123e' custom_font='#ffffff' av_ui
 d='' id='' custom_class='' admin_preview_bg='']</p>
CATEGORIES:Recht interdisziplinär
LOCATION:Hybrid
GEO:0.000000;0.000000
ORGANIZER;CN="ViFa-Recht":MAILTO:vifa-recht@sbb.spk-berlin.de
URL;VALUE=URI:https://events.intrecht.de/termine/termin/das-andere-des-arbe
 itsrechts-hybrid-event-book-launch/
END:VEVENT
BEGIN:VTIMEZONE
TZID:Europe/Berlin
BEGIN:DAYLIGHT
TZOFFSETFROM:+0100
TZOFFSETTO:+0200
DTSTART:20250330T010000
TZNAME:CEST
END:DAYLIGHT
END:VTIMEZONE
END:VCALENDAR
