BEGIN:VCALENDAR
VERSION:2.0
PRODID:-//Events | FID-Recht//NONSGML Events//EN
CALSCALE:GREGORIAN
X-ORIGINAL-URL:https://events.intrecht.de/termine/
X-WR-CALDESC:Events | FID-Recht - Events
BEGIN:VEVENT
UID:20200618T1100Z-1592478029.7354-EO-726-1@172.16.200.141
STATUS:CONFIRMED
DTSTAMP:20260422T112144Z
CREATED:20200602T185601Z
LAST-MODIFIED:20200602T185601Z
DTSTART;VALUE=DATE:20200618
DTEND;VALUE=DATE:20200619
SUMMARY: Current topic in legal history: What is a legal book? Crossing per
 spectives between legal history and book history (Workshop)
DESCRIPTION: 18.6.2020\, Online https://www.rg.mpg.de/2260582/event-20-06-1
 8-workshop-what-is-a-legal-book.html  
X-ALT-DESC;FMTTYPE=text/html: <p>18.6.2020\, Online</p><p><a href="https://
 www.rg.mpg.de/2260582/event-20-06-18-workshop-what-is-a-legal-book.html">ht
 tps://www.rg.mpg.de/2260582/event-20-06-18-workshop-what-is-a-legal-book.ht
 ml</a></p><p> </p><p>[av_button label='iCal-Export' link='./feed/eo-events'
  link_target='' size='small' position='center' label_display='' title_attr=
 '' icon_select='yes' icon='ue85b' font='entypo-fontello' color='custom' cus
 tom_bg='#b5123e' custom_font='#ffffff' av_uid='' id='' custom_class='' admi
 n_preview_bg='']</p>
CATEGORIES:Recht interdisziplinär
ORGANIZER;CN="ViFa-Recht":MAILTO:vifa-recht@sbb.spk-berlin.de
URL;VALUE=URI:https://events.intrecht.de/termine/termin/current-topic-in-le
 gal-history-what-is-a-legal-book-crossing-perspectives-between-legal-histor
 y-and-book-history-workshop/
END:VEVENT
BEGIN:VTIMEZONE
TZID:Europe/Berlin
BEGIN:DAYLIGHT
TZOFFSETFROM:+0100
TZOFFSETTO:+0200
DTSTART:20200329T010000
TZNAME:CEST
END:DAYLIGHT
END:VTIMEZONE
END:VCALENDAR
