BEGIN:VCALENDAR
VERSION:2.0
PRODID:-//Events | FID-Recht//NONSGML Events//EN
CALSCALE:GREGORIAN
X-ORIGINAL-URL:https://events.intrecht.de/termine/
X-WR-CALDESC:Events | FID-Recht - Events
BEGIN:VEVENT
UID:20200603T1418Z-1591193923.3362-EO-587-1@172.16.200.141
STATUS:CONFIRMED
DTSTAMP:20260425T182941Z
CREATED:20230417T081821Z
LAST-MODIFIED:20230417T081821Z
DTSTART;VALUE=DATE:20230418
DTEND;VALUE=DATE:20230419
SUMMARY: Current Research on Turkish Law: Crypto Assets from a Turkish Prop
 erty Law Perspective
DESCRIPTION: 18.4.2023 / Online https://events.mpipriv.de/current-research-
 on-turkish-law-2023-04-18
X-ALT-DESC;FMTTYPE=text/html: <p>18.4.2023 / Online</p><p><a href="https://
 events.mpipriv.de/current-research-on-turkish-law-2023-04-18">https://event
 s.mpipriv.de/current-research-on-turkish-law-2023-04-18</a></p><p>[av_butto
 n label='iCal-Export' link='./feed/eo-events' link_target='' size='small' p
 osition='center' label_display='' title_attr='' icon_select='yes' icon='ue8
 5b' font='entypo-fontello' color='custom' custom_bg='#b5123e' custom_font='
 #ffffff' av_uid='' id='' custom_class='' admin_preview_bg='']</p>
CATEGORIES:Zivilrecht
LOCATION:Online
GEO:0.000000;0.000000
ORGANIZER;CN="ViFa-Recht":MAILTO:vifa-recht@sbb.spk-berlin.de
URL;VALUE=URI:https://events.intrecht.de/termine/termin/current-research-on
 -turkish-law-crypto-assets-from-a-turkish-property-law-perspective/
END:VEVENT
BEGIN:VTIMEZONE
TZID:Europe/Berlin
BEGIN:DAYLIGHT
TZOFFSETFROM:+0100
TZOFFSETTO:+0200
DTSTART:20230326T010000
TZNAME:CEST
END:DAYLIGHT
END:VTIMEZONE
END:VCALENDAR
