BEGIN:VCALENDAR
VERSION:2.0
PRODID:-//Events | FID-Recht//NONSGML Events//EN
CALSCALE:GREGORIAN
X-ORIGINAL-URL:https://events.intrecht.de/termine/
X-WR-CALDESC:Events | FID-Recht - Events
BEGIN:VEVENT
UID:20200603T1418Z-1591193923.3362-EO-587-1@172.16.200.141
STATUS:CONFIRMED
DTSTAMP:20260425T182054Z
CREATED:20231025T101953Z
LAST-MODIFIED:20231025T101953Z
DTSTART;VALUE=DATE:20231127
DTEND;VALUE=DATE:20231129
SUMMARY: Current Issues of International Environmental Law (Workshop)
DESCRIPTION: 27.-28.11.2023 / Siena https://drive.google.com/file/d/1GfTK5_
 08FLwWMmBSih4LcRz-Z2PqzNvi/view
X-ALT-DESC;FMTTYPE=text/html: <p>27.-28.11.2023 / Siena</p><p><a href="http
 s://drive.google.com/file/d/1GfTK5_08FLwWMmBSih4LcRz-Z2PqzNvi/view">https:/
 /drive.google.com/file/d/1GfTK5_08FLwWMmBSih4LcRz-Z2PqzNvi/view</a></p><p>[
 av_button label='iCal-Export' link='./feed/eo-events' link_target='' size='
 small' position='center' label_display='' title_attr='' icon_select='yes' i
 con='ue85b' font='entypo-fontello' color='custom' custom_bg='#b5123e' custo
 m_font='#ffffff' av_uid='' id='' custom_class='' admin_preview_bg='']</p>
CATEGORIES:Europäisches / Internationales Recht
LOCATION:Ausland
GEO:0.000000;0.000000
ORGANIZER;CN="ViFa-Recht":MAILTO:vifa-recht@sbb.spk-berlin.de
URL;VALUE=URI:https://events.intrecht.de/termine/termin/current-issues-of-i
 nternational-environmental-law-workshop/
END:VEVENT
BEGIN:VTIMEZONE
TZID:Europe/Berlin
BEGIN:STANDARD
TZOFFSETFROM:+0200
TZOFFSETTO:+0100
DTSTART:20231029T010000
TZNAME:CET
END:STANDARD
END:VTIMEZONE
END:VCALENDAR
