BEGIN:VCALENDAR
VERSION:2.0
PRODID:-//Events | FID-Recht//NONSGML Events//EN
CALSCALE:GREGORIAN
X-ORIGINAL-URL:https://events.intrecht.de/termine/
X-WR-CALDESC:Events | FID-Recht - Events
BEGIN:VEVENT
UID:20200603T1418Z-1591193923.3362-EO-587-1@172.16.200.141
STATUS:CONFIRMED
DTSTAMP:20260422T225239Z
CREATED:20250218T082451Z
LAST-MODIFIED:20250218T082451Z
DTSTART;VALUE=DATE:20250630
DTEND;VALUE=DATE:20250706
SUMMARY: Current developments on financial crime\, corruption and money lau
 ndering: European and international perspectives (Summer school / Hybrid Ev
 ent)
DESCRIPTION: 30.6 – 5.7.2025 / Online und Thessaloniki https://websites.aut
 h.gr/anticorruptionlab/en/actions/summer-school-current-developments-on-fin
 ancial-crime-corruption-and-money-laundering-european-and-international-per
 spectives-2025-2/
X-ALT-DESC;FMTTYPE=text/html: <p>30.6 - 5.7.2025 / Online und Thessaloniki<
 /p><p><a href="https://websites.auth.gr/anticorruptionlab/en/actions/summer
 -school-current-developments-on-financial-crime-corruption-and-money-launde
 ring-european-and-international-perspectives-2025-2/">https://websites.auth
 .gr/anticorruptionlab/en/actions/summer-school-current-developments-on-fina
 ncial-crime-corruption-and-money-laundering-european-and-international-pers
 pectives-2025-2/</a></p><p>[av_button label='iCal-Export' link='./feed/eo-e
 vents' link_target='' size='small' position='center' label_display='' title
 _attr='' icon_select='yes' icon='ue85b' font='entypo-fontello' color='custo
 m' custom_bg='#b5123e' custom_font='#ffffff' av_uid='' id='' custom_class='
 ' admin_preview_bg='']</p>
CATEGORIES:Europäisches / Internationales Recht
LOCATION:Hybrid
GEO:0.000000;0.000000
ORGANIZER;CN="ViFa-Recht":MAILTO:vifa-recht@sbb.spk-berlin.de
URL;VALUE=URI:https://events.intrecht.de/termine/termin/current-development
 s-on-financial-crime-corruption-and-money-laundering-european-and-internati
 onal-perspectives-summer-school-hybrid-event/
END:VEVENT
BEGIN:VTIMEZONE
TZID:Europe/Berlin
BEGIN:DAYLIGHT
TZOFFSETFROM:+0100
TZOFFSETTO:+0200
DTSTART:20250330T010000
TZNAME:CEST
END:DAYLIGHT
END:VTIMEZONE
END:VCALENDAR
