BEGIN:VCALENDAR
VERSION:2.0
PRODID:-//Events | FID-Recht//NONSGML Events//EN
CALSCALE:GREGORIAN
X-ORIGINAL-URL:https://events.intrecht.de/termine/
X-WR-CALDESC:Events | FID-Recht - Events
BEGIN:VEVENT
UID:20200603T1418Z-1591193923.3362-EO-587-1@172.16.200.141
STATUS:CONFIRMED
DTSTAMP:20260422T110458Z
CREATED:20240223T131313Z
LAST-MODIFIED:20240223T131313Z
DTSTART;VALUE=DATE:20240305
DTEND;VALUE=DATE:20240306
SUMMARY: Current Developments in Cross-Border Enforcement of Patent Rights:
  Revisiting Territoriality and Reflexive Effect? (Virtual Workshop / Curren
 t Research in Private International Law)
DESCRIPTION: 5.3.2024 / Online https://events.mpipriv.de/virtual_workshop_w
 ith_marta_pertegas
X-ALT-DESC;FMTTYPE=text/html: <p>5.3.2024 / Online</p><p><a href="https://e
 vents.mpipriv.de/virtual_workshop_with_marta_pertegas">https://events.mpipr
 iv.de/virtual_workshop_with_marta_pertegas</a></p><p>[av_button label='iCal
 -Export' link='./feed/eo-events' link_target='' size='small' position='cent
 er' label_display='' title_attr='' icon_select='yes' icon='ue85b' font='ent
 ypo-fontello' color='custom' custom_bg='#b5123e' custom_font='#ffffff' av_u
 id='' id='' custom_class='' admin_preview_bg='']</p>
CATEGORIES:Zivilrecht
LOCATION:Online
GEO:0.000000;0.000000
ORGANIZER;CN="ViFa-Recht":MAILTO:vifa-recht@sbb.spk-berlin.de
URL;VALUE=URI:https://events.intrecht.de/termine/termin/current-development
 s-in-cross-border-enforcement-of-patent-rights-revisiting-territoriality-an
 d-reflexive-effect-virtual-workshop-current-research-in-private-internation
 al-law/
END:VEVENT
BEGIN:VTIMEZONE
TZID:Europe/Berlin
BEGIN:STANDARD
TZOFFSETFROM:+0200
TZOFFSETTO:+0100
DTSTART:20231029T010000
TZNAME:CET
END:STANDARD
END:VTIMEZONE
END:VCALENDAR
