BEGIN:VCALENDAR
VERSION:2.0
PRODID:-//Events | FID-Recht//NONSGML Events//EN
CALSCALE:GREGORIAN
X-ORIGINAL-URL:https://events.intrecht.de/termine/
X-WR-CALDESC:Events | FID-Recht - Events
BEGIN:VEVENT
UID:20220929T0019Z-1664410787.1396-EO-6363-1@172.16.200.151
STATUS:CONFIRMED
DTSTAMP:20260420T111557Z
CREATED:20220926T083012Z
LAST-MODIFIED:20220926T083012Z
DTSTART;VALUE=DATE:20221014
DTEND;VALUE=DATE:20221016
SUMMARY: Current Challenges for European and International Criminal Policy 
 (Tagung Junges Strafrecht)
DESCRIPTION: 14.-15.10.2022\, Münster https://wwuindico.uni-muenster.de/eve
 nt/1516/  
X-ALT-DESC;FMTTYPE=text/html: <p>14.-15.10.2022\, Münster</p><p><a href="ht
 tps://wwuindico.uni-muenster.de/event/1516/">https://wwuindico.uni-muenster
 .de/event/1516/</a></p><p> </p><p>[av_button label='iCal-Export' link='./fe
 ed/eo-events' link_target='' size='small' position='center' label_display='
 ' title_attr='' icon_select='yes' icon='ue85b' font='entypo-fontello' color
 ='custom' custom_bg='#b5123e' custom_font='#ffffff' av_uid='' id='' custom_
 class='' admin_preview_bg='']</p>
CATEGORIES:Strafrecht
LOCATION:Inland
GEO:0.000000;0.000000
ORGANIZER;CN="ViFa-Recht":MAILTO:vifa-recht@sbb.spk-berlin.de
URL;VALUE=URI:https://events.intrecht.de/termine/termin/current-challenges-
 for-european-and-international-criminal-policy-tagung-junges-strafrecht/
END:VEVENT
BEGIN:VTIMEZONE
TZID:Europe/Berlin
BEGIN:DAYLIGHT
TZOFFSETFROM:+0100
TZOFFSETTO:+0200
DTSTART:20220327T010000
TZNAME:CEST
END:DAYLIGHT
END:VTIMEZONE
END:VCALENDAR
