BEGIN:VCALENDAR
VERSION:2.0
PRODID:-//Events | FID-Recht//NONSGML Events//EN
CALSCALE:GREGORIAN
X-ORIGINAL-URL:https://events.intrecht.de/termine/
X-WR-CALDESC:Events | FID-Recht - Events
BEGIN:VEVENT
UID:20200603T1418Z-1591193923.3362-EO-587-1@172.16.200.141
STATUS:CONFIRMED
DTSTAMP:20260425T132448Z
CREATED:20230321T152834Z
LAST-MODIFIED:20230321T152834Z
DTSTART;VALUE=DATE:20230420
DTEND;VALUE=DATE:20230422
SUMMARY: Cultures\, Sources and Ideas in the Traditions of Political Advice
  (International Workshop)
DESCRIPTION: 20.-21.4.2023 / Münster https://www.uni-muenster.de/EViR/en/ve
 ranstaltungen/tagungenundworkshops/cultures.html
X-ALT-DESC;FMTTYPE=text/html: <p>20.-21.4.2023 / Münster</p><p><a href="htt
 ps://www.uni-muenster.de/EViR/en/veranstaltungen/tagungenundworkshops/cultu
 res.html">https://www.uni-muenster.de/EViR/en/veranstaltungen/tagungenundwo
 rkshops/cultures.html</a></p><p>[av_button label='iCal-Export' link='./feed
 /eo-events' link_target='' size='small' position='center' label_display='' 
 title_attr='' icon_select='yes' icon='ue85b' font='entypo-fontello' color='
 custom' custom_bg='#b5123e' custom_font='#ffffff' av_uid='' id='' custom_cl
 ass='' admin_preview_bg='']</p>
CATEGORIES:Recht interdisziplinär
LOCATION:Inland
GEO:0.000000;0.000000
ORGANIZER;CN="ViFa-Recht":MAILTO:vifa-recht@sbb.spk-berlin.de
URL;VALUE=URI:https://events.intrecht.de/termine/termin/cultures-sources-an
 d-ideas-in-the-traditions-of-political-advice-international-workshop/
END:VEVENT
BEGIN:VTIMEZONE
TZID:Europe/Berlin
BEGIN:DAYLIGHT
TZOFFSETFROM:+0100
TZOFFSETTO:+0200
DTSTART:20230326T010000
TZNAME:CEST
END:DAYLIGHT
END:VTIMEZONE
END:VCALENDAR
