BEGIN:VCALENDAR
VERSION:2.0
PRODID:-//Events | FID-Recht//NONSGML Events//EN
CALSCALE:GREGORIAN
X-ORIGINAL-URL:https://events.intrecht.de/termine/
X-WR-CALDESC:Events | FID-Recht - Events
BEGIN:VEVENT
UID:20200603T1418Z-1591193923.3362-EO-587-1@172.16.200.141
STATUS:CONFIRMED
DTSTAMP:20260422T192559Z
CREATED:20250117T144726Z
LAST-MODIFIED:20250117T144726Z
DTSTART;VALUE=DATE:20250122
DTEND;VALUE=DATE:20250124
SUMMARY: Cultures of Harm: Sexual Violence in Local and Global Contexts (Hy
 brid Event)
DESCRIPTION: 22.-23.1.2025 / Online und Freiburg https://law.mpg.de/event/c
 ultures-of-harm-sexual-violence-in-local-and-global-contexts/#register
X-ALT-DESC;FMTTYPE=text/html: <p>22.-23.1.2025 / Online und Freiburg</p><p>
 <a href="https://law.mpg.de/event/cultures-of-harm-sexual-violence-in-local
 -and-global-contexts/#register">https://law.mpg.de/event/cultures-of-harm-s
 exual-violence-in-local-and-global-contexts/#register</a></p><p>[av_button 
 label='iCal-Export' link='./feed/eo-events' link_target='' size='small' pos
 ition='center' label_display='' title_attr='' icon_select='yes' icon='ue85b
 ' font='entypo-fontello' color='custom' custom_bg='#b5123e' custom_font='#f
 fffff' av_uid='' id='' custom_class='' admin_preview_bg='']</p>
CATEGORIES:Recht interdisziplinär
LOCATION:Hybrid
GEO:0.000000;0.000000
ORGANIZER;CN="ViFa-Recht":MAILTO:vifa-recht@sbb.spk-berlin.de
URL;VALUE=URI:https://events.intrecht.de/termine/termin/cultures-of-harm-se
 xual-violence-in-local-and-global-contexts-hybrid-event/
END:VEVENT
BEGIN:VTIMEZONE
TZID:Europe/Berlin
BEGIN:STANDARD
TZOFFSETFROM:+0200
TZOFFSETTO:+0100
DTSTART:20241027T010000
TZNAME:CET
END:STANDARD
END:VTIMEZONE
END:VCALENDAR
