BEGIN:VCALENDAR
VERSION:2.0
PRODID:-//Events | FID-Recht//NONSGML Events//EN
CALSCALE:GREGORIAN
X-ORIGINAL-URL:https://events.intrecht.de/termine/
X-WR-CALDESC:Events | FID-Recht - Events
BEGIN:VEVENT
UID:20200603T1418Z-1591193923.3362-EO-587-1@172.16.200.141
STATUS:CONFIRMED
DTSTAMP:20260421T102507Z
CREATED:20230905T103053Z
LAST-MODIFIED:20230905T103053Z
DTSTART;VALUE=DATE:20231013
DTEND;VALUE=DATE:20231014
SUMMARY: Cultural Rights and International Law (Vortrag)
DESCRIPTION: 13.10.2023 / Online https://www.eventbrite.com/e/alexandra-xan
 thaki-on-cultural-rights-international-law-tickets-702089968997?aff=ebdsopo
 rgprofile
X-ALT-DESC;FMTTYPE=text/html: <p>13.10.2023 / Online</p><p><a href="https:/
 /www.eventbrite.com/e/alexandra-xanthaki-on-cultural-rights-international-l
 aw-tickets-702089968997?aff=ebdsoporgprofile">https://www.eventbrite.com/e/
 alexandra-xanthaki-on-cultural-rights-international-law-tickets-70208996899
 7?aff=ebdsoporgprofile</a></p><p>[av_button label='iCal-Export' link='./fee
 d/eo-events' link_target='' size='small' position='center' label_display=''
  title_attr='' icon_select='yes' icon='ue85b' font='entypo-fontello' color=
 'custom' custom_bg='#b5123e' custom_font='#ffffff' av_uid='' id='' custom_c
 lass='' admin_preview_bg='']</p>
CATEGORIES:Europäisches / Internationales Recht
LOCATION:Online
GEO:0.000000;0.000000
ORGANIZER;CN="ViFa-Recht":MAILTO:vifa-recht@sbb.spk-berlin.de
URL;VALUE=URI:https://events.intrecht.de/termine/termin/cultural-rights-and
 -international-law-vortrag/
END:VEVENT
BEGIN:VTIMEZONE
TZID:Europe/Berlin
BEGIN:DAYLIGHT
TZOFFSETFROM:+0100
TZOFFSETTO:+0200
DTSTART:20230326T010000
TZNAME:CEST
END:DAYLIGHT
END:VTIMEZONE
END:VCALENDAR
