BEGIN:VCALENDAR
VERSION:2.0
PRODID:-//Events | FID-Recht//NONSGML Events//EN
CALSCALE:GREGORIAN
X-ORIGINAL-URL:https://events.intrecht.de/termine/
X-WR-CALDESC:Events | FID-Recht - Events
BEGIN:VEVENT
UID:20200823T0424Z-1598156675.8566-EO-1260-1@172.16.200.141
STATUS:CONFIRMED
DTSTAMP:20260422T162347Z
CREATED:20200728T175711Z
LAST-MODIFIED:20200728T175711Z
DTSTART;VALUE=DATE:20200908
DTEND;VALUE=DATE:20200909
SUMMARY: Crossing boundaries. Legal History between Methodological Approach
 es and new Challenges and Identities (Kolloquium)
DESCRIPTION: Vortragender: Luigi Lacchè (University of Macerata / LUISS ‘G.
  Carli’ Rome) 8.9.2020\, 14-16 Uhr\, Online   https://www.rg.mpg.de/2090349
 /event03-03-20-crossing-boundaries.html  
X-ALT-DESC;FMTTYPE=text/html: <p>Vortragender: Luigi Lacchè (University of 
 Macerata / LUISS ‘G. Carli’ Rome)</p><p>8.9.2020\, 14-16 Uhr\, Online</p><p
 > </p><p><a href="https://www.rg.mpg.de/2090349/event03-03-20-crossing-boun
 daries.html">https://www.rg.mpg.de/2090349/event03-03-20-crossing-boundarie
 s.html</a></p><p> </p><p>[av_button label='iCal-Export' link='./feed/eo-eve
 nts' link_target='' size='small' position='center' label_display='' title_a
 ttr='' icon_select='yes' icon='ue85b' font='entypo-fontello' color='custom'
  custom_bg='#b5123e' custom_font='#ffffff' av_uid='' id='' custom_class='' 
 admin_preview_bg='']</p>
CATEGORIES:Recht interdisziplinär
LOCATION:Online
GEO:0.000000;0.000000
ORGANIZER;CN="ViFa-Recht":MAILTO:vifa-recht@sbb.spk-berlin.de
URL;VALUE=URI:https://events.intrecht.de/termine/termin/crossing-boundaries
 -legal-history-between-methodological-approaches-and-new-challenges-and-ide
 ntities-kolloquium/
END:VEVENT
BEGIN:VTIMEZONE
TZID:Europe/Berlin
BEGIN:DAYLIGHT
TZOFFSETFROM:+0100
TZOFFSETTO:+0200
DTSTART:20200329T010000
TZNAME:CEST
END:DAYLIGHT
END:VTIMEZONE
END:VCALENDAR
