BEGIN:VCALENDAR
VERSION:2.0
PRODID:-//Events | FID-Recht//NONSGML Events//EN
CALSCALE:GREGORIAN
X-ORIGINAL-URL:https://events.intrecht.de/termine/
X-WR-CALDESC:Events | FID-Recht - Events
BEGIN:VEVENT
UID:20201020T2202Z-1603231364.9406-EO-1884-1@172.16.200.141
STATUS:CONFIRMED
DTSTAMP:20260421T170301Z
CREATED:20201012T185724Z
LAST-MODIFIED:20201012T185806Z
DTSTART;VALUE=DATE:20201201
DTEND;VALUE=DATE:20201201
SUMMARY: Crossing Borders\, Connecting Cultures – 18th IMISCOE Annual Confe
 rence (Call for Papers)
DESCRIPTION: 7.-9.7.2021\, Luxemburg (Frist für Einreichungen: 1.12.2020) h
 ttps://www.imiscoe.org/events/imiscoe-events/925-18th-imiscoe-annual-confer
 ence-luxembourg-july-7-9-2021  
X-ALT-DESC;FMTTYPE=text/html: <p>7.-9.7.2021\, Luxemburg (Frist für Einreic
 hungen: 1.12.2020)</p><p><a href="https://www.imiscoe.org/events/imiscoe-ev
 ents/925-18th-imiscoe-annual-conference-luxembourg-july-7-9-2021">https://w
 ww.imiscoe.org/events/imiscoe-events/925-18th-imiscoe-annual-conference-lux
 embourg-july-7-9-2021</a></p><p> </p><p>[av_button label='iCal-Export' link
 ='./feed/eo-events' link_target='' size='small' position='center' label_dis
 play='' title_attr='' icon_select='yes' icon='ue85b' font='entypo-fontello'
  color='custom' custom_bg='#b5123e' custom_font='#ffffff' av_uid='' id='' c
 ustom_class='' admin_preview_bg='']</p>
CATEGORIES:Europäisches / Internationales Recht,Recht interdisziplinär
LOCATION:Ausland
GEO:0.000000;0.000000
ORGANIZER;CN="ViFa-Recht":MAILTO:vifa-recht@sbb.spk-berlin.de
URL;VALUE=URI:https://events.intrecht.de/termine/termin/crossing-borders-co
 nnecting-cultures-18th-imiscoe-annual-conference-konferenz/
END:VEVENT
BEGIN:VTIMEZONE
TZID:Europe/Berlin
BEGIN:STANDARD
TZOFFSETFROM:+0200
TZOFFSETTO:+0100
DTSTART:20201025T010000
TZNAME:CET
END:STANDARD
END:VTIMEZONE
END:VCALENDAR
