BEGIN:VCALENDAR
VERSION:2.0
PRODID:-//Events | FID-Recht//NONSGML Events//EN
CALSCALE:GREGORIAN
X-ORIGINAL-URL:https://events.intrecht.de/termine/
X-WR-CALDESC:Events | FID-Recht - Events
BEGIN:VEVENT
UID:20201019T0913Z-1603098785.9314-EO-1898-1@172.16.200.141
STATUS:CONFIRMED
DTSTAMP:20260423T091012Z
CREATED:20201207T171617Z
LAST-MODIFIED:20201207T171617Z
DTSTART;VALUE=DATE:20210707
DTEND;VALUE=DATE:20210710
SUMMARY: Crossing Borders\, Connecting Cultures – 18th IMISCOE Annual Confe
 rence (Konferenz)
DESCRIPTION: 7.-9.7.2021\, Luxemburg https://www.imiscoe.org/events/imiscoe
 -events/925-18th-imiscoe-annual-conference-luxembourg-july-7-9-2021  
X-ALT-DESC;FMTTYPE=text/html: <p>7.-9.7.2021\, Luxemburg</p><p><a href="htt
 ps://www.imiscoe.org/events/imiscoe-events/925-18th-imiscoe-annual-conferen
 ce-luxembourg-july-7-9-2021">https://www.imiscoe.org/events/imiscoe-events/
 925-18th-imiscoe-annual-conference-luxembourg-july-7-9-2021</a></p><p> </p>
 <p>[av_button label='iCal-Export' link='./feed/eo-events' link_target='' si
 ze='small' position='center' label_display='' title_attr='' icon_select='ye
 s' icon='ue85b' font='entypo-fontello' color='custom' custom_bg='#b5123e' c
 ustom_font='#ffffff' av_uid='' id='' custom_class='' admin_preview_bg='']</
 p>
CATEGORIES:Europäisches / Internationales Recht,Recht interdisziplinär
LOCATION:Ausland
GEO:0.000000;0.000000
ORGANIZER;CN="ViFa-Recht":MAILTO:vifa-recht@sbb.spk-berlin.de
URL;VALUE=URI:https://events.intrecht.de/termine/termin/crossing-borders-co
 nnecting-cultures-18th-imiscoe-annual-conference-konferenz-3/
END:VEVENT
BEGIN:VTIMEZONE
TZID:Europe/Berlin
BEGIN:DAYLIGHT
TZOFFSETFROM:+0100
TZOFFSETTO:+0200
DTSTART:20210328T010000
TZNAME:CEST
END:DAYLIGHT
END:VTIMEZONE
END:VCALENDAR
