BEGIN:VCALENDAR
VERSION:2.0
PRODID:-//Events | FID-Recht//NONSGML Events//EN
CALSCALE:GREGORIAN
X-ORIGINAL-URL:https://events.intrecht.de/termine/
X-WR-CALDESC:Events | FID-Recht - Events
BEGIN:VEVENT
UID:20200603T1418Z-1591193923.3362-EO-587-1@172.16.200.141
STATUS:CONFIRMED
DTSTAMP:20260423T021333Z
CREATED:20230810T092713Z
LAST-MODIFIED:20230810T092713Z
DTSTART;VALUE=DATE:20230911
DTEND;VALUE=DATE:20230914
SUMMARY: Critical Legal Conference 2023: Sanctuary
DESCRIPTION: 11.-13.9.2023 / Durham (Anmeldefrist: 18.8.2023) https://pay.d
 urham.ac.uk/event-durham/clc2023
X-ALT-DESC;FMTTYPE=text/html: <p>11.-13.9.2023 / Durham <strong>(Anmeldefri
 st: 18.8.2023)</strong></p><p><a href="https://pay.durham.ac.uk/event-durha
 m/clc2023">https://pay.durham.ac.uk/event-durham/clc2023</a></p><p>[av_butt
 on label='iCal-Export' link='./feed/eo-events' link_target='' size='small' 
 position='center' label_display='' title_attr='' icon_select='yes' icon='ue
 85b' font='entypo-fontello' color='custom' custom_bg='#b5123e' custom_font=
 '#ffffff' av_uid='' id='' custom_class='' admin_preview_bg='']</p>
CATEGORIES:Recht interdisziplinär
LOCATION:Ausland
GEO:0.000000;0.000000
ORGANIZER;CN="ViFa-Recht":MAILTO:vifa-recht@sbb.spk-berlin.de
URL;VALUE=URI:https://events.intrecht.de/termine/termin/critical-legal-conf
 erence-2023-sanctuary/
END:VEVENT
BEGIN:VTIMEZONE
TZID:Europe/Berlin
BEGIN:DAYLIGHT
TZOFFSETFROM:+0100
TZOFFSETTO:+0200
DTSTART:20230326T010000
TZNAME:CEST
END:DAYLIGHT
END:VTIMEZONE
END:VCALENDAR
