BEGIN:VCALENDAR
VERSION:2.0
PRODID:-//Events | FID-Recht//NONSGML Events//EN
CALSCALE:GREGORIAN
X-ORIGINAL-URL:https://events.intrecht.de/termine/
X-WR-CALDESC:Events | FID-Recht - Events
BEGIN:VEVENT
UID:20200603T1418Z-1591193923.3362-EO-587-1@172.16.200.141
STATUS:CONFIRMED
DTSTAMP:20260423T003027Z
CREATED:20250423T124546Z
LAST-MODIFIED:20250423T124636Z
DTSTART;VALUE=DATE:20250516
DTEND;VALUE=DATE:20250517
SUMMARY: Critical Historical Methodologies (Online Event)
DESCRIPTION: 16.5.2025 / Online https://law.mpg.de/event/critical-historica
 l-methodologies/
X-ALT-DESC;FMTTYPE=text/html: <p>16.5.2025 / Online</p><p><a href="https://
 law.mpg.de/event/critical-historical-methodologies/">https://law.mpg.de/eve
 nt/critical-historical-methodologies/</a></p><p>[av_button label='iCal-Expo
 rt' link='./feed/eo-events' link_target='' size='small' position='center' l
 abel_display='' title_attr='' icon_select='yes' icon='ue85b' font='entypo-f
 ontello' color='custom' custom_bg='#b5123e' custom_font='#ffffff' av_uid=''
  id='' custom_class='' admin_preview_bg='']</p>
CATEGORIES:Recht interdisziplinär
LOCATION:Online
GEO:0.000000;0.000000
ORGANIZER;CN="ViFa-Recht":MAILTO:vifa-recht@sbb.spk-berlin.de
URL;VALUE=URI:https://events.intrecht.de/termine/termin/critical-historical
 -methodologies-online-event/
END:VEVENT
BEGIN:VTIMEZONE
TZID:Europe/Berlin
BEGIN:DAYLIGHT
TZOFFSETFROM:+0100
TZOFFSETTO:+0200
DTSTART:20250330T010000
TZNAME:CEST
END:DAYLIGHT
END:VTIMEZONE
END:VCALENDAR
