BEGIN:VCALENDAR
VERSION:2.0
PRODID:-//Events | FID-Recht//NONSGML Events//EN
CALSCALE:GREGORIAN
X-ORIGINAL-URL:https://events.intrecht.de/termine/
X-WR-CALDESC:Events | FID-Recht - Events
BEGIN:VEVENT
UID:20200602T0945Z-1591091115.9737-EO-599-1@172.16.200.141
STATUS:CONFIRMED
DTSTAMP:20260423T021334Z
CREATED:20250909T123043Z
LAST-MODIFIED:20250909T123137Z
DTSTART;VALUE=DATE:20260705
DTEND;VALUE=DATE:20260708
SUMMARY: Crimmigration in an Age of Authoritarian Drift (Conference)
DESCRIPTION: 5.-7.7.2026 / Leiden (Einreichungsfrist: 15.10.2025) https://w
 ww.law.ox.ac.uk/content/event/call-papers-crimmigration-age-authoritarian-d
 rift
X-ALT-DESC;FMTTYPE=text/html: <p>5.-7.7.2026 / Leiden <strong>(Einreichungs
 frist: 15.10.2025)</strong></p><p><a href="https://www.law.ox.ac.uk/content
 /event/call-papers-crimmigration-age-authoritarian-drift">https://www.law.o
 x.ac.uk/content/event/call-papers-crimmigration-age-authoritarian-drift</a>
 </p><p>[av_button label='iCal-Export' link='./feed/eo-events' link_target='
 ' size='small' position='center' label_display='' title_attr='' icon_select
 ='yes' icon='ue85b' font='entypo-fontello' color='custom' custom_bg='#b5123
 e' custom_font='#ffffff' av_uid='' id='' custom_class='' admin_preview_bg='
 ']</p>
CATEGORIES:Recht interdisziplinär
LOCATION:Ausland
GEO:0.000000;0.000000
ORGANIZER;CN="ViFa-Recht":MAILTO:vifa-recht@sbb.spk-berlin.de
URL;VALUE=URI:https://events.intrecht.de/termine/termin/crimmigration-in-an
 -age-of-authoritarian-drift-conference/
END:VEVENT
BEGIN:VTIMEZONE
TZID:Europe/Berlin
BEGIN:DAYLIGHT
TZOFFSETFROM:+0100
TZOFFSETTO:+0200
DTSTART:20260329T010000
TZNAME:CEST
END:DAYLIGHT
END:VTIMEZONE
END:VCALENDAR
