BEGIN:VCALENDAR
VERSION:2.0
PRODID:-//Events | FID-Recht//NONSGML Events//EN
CALSCALE:GREGORIAN
X-ORIGINAL-URL:https://events.intrecht.de/termine/
X-WR-CALDESC:Events | FID-Recht - Events
BEGIN:VEVENT
UID:20200602T0945Z-1591091115.9737-EO-599-1@172.16.200.141
STATUS:CONFIRMED
DTSTAMP:20260423T071446Z
CREATED:20250909T122107Z
LAST-MODIFIED:20250909T122107Z
DTSTART;VALUE=DATE:20250924
DTEND;VALUE=DATE:20250926
SUMMARY: Criminalising Genocide Denial: Law\, Accountability and Prevention
  (Conference)
DESCRIPTION: 24.-25.9.2025 / Sarajevo https://www.nurembergacademy.org/publ
 ic-discourse/events/detail/1241-conference-on-criminalising-genocide-denial
 -in-sarajevo
X-ALT-DESC;FMTTYPE=text/html: <p>24.-25.9.2025 / Sarajevo</p><p><a href="ht
 tps://www.nurembergacademy.org/public-discourse/events/detail/1241-conferen
 ce-on-criminalising-genocide-denial-in-sarajevo">https://www.nurembergacade
 my.org/public-discourse/events/detail/1241-conference-on-criminalising-geno
 cide-denial-in-sarajevo</a></p><p>[av_button label='iCal-Export' link='./fe
 ed/eo-events' link_target='' size='small' position='center' label_display='
 ' title_attr='' icon_select='yes' icon='ue85b' font='entypo-fontello' color
 ='custom' custom_bg='#b5123e' custom_font='#ffffff' av_uid='' id='' custom_
 class='' admin_preview_bg='']</p>
CATEGORIES:Europäisches / Internationales Recht
LOCATION:Ausland
GEO:0.000000;0.000000
ORGANIZER;CN="ViFa-Recht":MAILTO:vifa-recht@sbb.spk-berlin.de
URL;VALUE=URI:https://events.intrecht.de/termine/termin/criminalising-genoc
 ide-denial-law-accountability-and-prevention-conference/
END:VEVENT
BEGIN:VTIMEZONE
TZID:Europe/Berlin
BEGIN:DAYLIGHT
TZOFFSETFROM:+0100
TZOFFSETTO:+0200
DTSTART:20250330T010000
TZNAME:CEST
END:DAYLIGHT
END:VTIMEZONE
END:VCALENDAR
